BEGIN:VCALENDAR
VERSION:2.0
PRODID:-//Cynthia James - ECPv6.15.20//NONSGML v1.0//EN
CALSCALE:GREGORIAN
METHOD:PUBLISH
X-ORIGINAL-URL:https://www.cynthiajames.net
X-WR-CALDESC:Events for Cynthia James
REFRESH-INTERVAL;VALUE=DURATION:PT1H
X-Robots-Tag:noindex
X-PUBLISHED-TTL:PT1H
BEGIN:VTIMEZONE
TZID:America/Denver
BEGIN:DAYLIGHT
TZOFFSETFROM:-0700
TZOFFSETTO:-0600
TZNAME:MDT
DTSTART:20190310T090000
END:DAYLIGHT
BEGIN:STANDARD
TZOFFSETFROM:-0600
TZOFFSETTO:-0700
TZNAME:MST
DTSTART:20191103T080000
END:STANDARD
BEGIN:DAYLIGHT
TZOFFSETFROM:-0700
TZOFFSETTO:-0600
TZNAME:MDT
DTSTART:20200308T090000
END:DAYLIGHT
BEGIN:STANDARD
TZOFFSETFROM:-0600
TZOFFSETTO:-0700
TZNAME:MST
DTSTART:20201101T080000
END:STANDARD
BEGIN:DAYLIGHT
TZOFFSETFROM:-0700
TZOFFSETTO:-0600
TZNAME:MDT
DTSTART:20210314T090000
END:DAYLIGHT
BEGIN:STANDARD
TZOFFSETFROM:-0600
TZOFFSETTO:-0700
TZNAME:MST
DTSTART:20211107T080000
END:STANDARD
BEGIN:DAYLIGHT
TZOFFSETFROM:-0700
TZOFFSETTO:-0600
TZNAME:MDT
DTSTART:20220313T090000
END:DAYLIGHT
BEGIN:STANDARD
TZOFFSETFROM:-0600
TZOFFSETTO:-0700
TZNAME:MST
DTSTART:20221106T080000
END:STANDARD
BEGIN:DAYLIGHT
TZOFFSETFROM:-0700
TZOFFSETTO:-0600
TZNAME:MDT
DTSTART:20230312T090000
END:DAYLIGHT
BEGIN:STANDARD
TZOFFSETFROM:-0600
TZOFFSETTO:-0700
TZNAME:MST
DTSTART:20231105T080000
END:STANDARD
BEGIN:DAYLIGHT
TZOFFSETFROM:-0700
TZOFFSETTO:-0600
TZNAME:MDT
DTSTART:20240310T090000
END:DAYLIGHT
BEGIN:STANDARD
TZOFFSETFROM:-0600
TZOFFSETTO:-0700
TZNAME:MST
DTSTART:20241103T080000
END:STANDARD
BEGIN:DAYLIGHT
TZOFFSETFROM:-0700
TZOFFSETTO:-0600
TZNAME:MDT
DTSTART:20250309T090000
END:DAYLIGHT
BEGIN:STANDARD
TZOFFSETFROM:-0600
TZOFFSETTO:-0700
TZNAME:MST
DTSTART:20251102T080000
END:STANDARD
END:VTIMEZONE
BEGIN:VEVENT
DTSTART;TZID=America/Denver:20241029T180000
DTEND;TZID=America/Denver:20241029T193000
DTSTAMP:20260423T195337
CREATED:20240827T174744Z
LAST-MODIFIED:20240827T183713Z
UID:12627-1730224800-1730230200@www.cynthiajames.net
SUMMARY:OK Ladies\, Let's Write A Book Webinar
DESCRIPTION:Do you…….\nWant to Write a Book? Want to start a blog? Want to create an Ebook? Want to make a difference? \nWant to move into action on your purpose through writing? \nJoin me\, for OKAY\, LADIES…LET’S WRITE A BOOK Informational Webinar.  \nDuring this one hour webinar\, we will welcome registered participants AND invite in others who may still be considering if this class is for them.  \nFor any women that is ready to step forward and bring her voice and message to the planet. \nLIVE WEBINAR SESSION OCTOBER 29\, 2024 at 6:00pm Mountain Time. \nLearn more and register here >> \n\nDownload the FREE Ebook: “7 Barriers to Writing” and Discover How to Overcome Self-Doubt\, Perfectionism\, and Procrastination\nDo you have a message burning inside you\, waiting to be shared with the world? Are you struggling with self-doubt\, perfectionism\, or procrastination that’s holding you back from writing? \nThis free ebook\, “7 Barriers to Writing\,” is your guide to overcoming these common obstacles and finding your authentic voice. \nGet the FREE ebook here >>
URL:https://www.cynthiajames.net/event/ok-ladies-lets-write-a-book-webinar/
LOCATION:Online Event
CATEGORIES:Webinar
ATTACH;FMTTYPE=image/jpeg:https://www.cynthiajames.net/wp-content/uploads/2024/08/okladies-howtowritebookwebinar.jpg
END:VEVENT
BEGIN:VEVENT
DTSTART;TZID=America/Denver:20200305T180000
DTEND;TZID=America/Denver:20200305T190000
DTSTAMP:20260423T195337
CREATED:20200302T180329Z
LAST-MODIFIED:20220505T193700Z
UID:9079-1583431200-1583434800@www.cynthiajames.net
SUMMARY:Spectacular Speakers Information Webinar
DESCRIPTION:Spectacular Speakers Workshop Information Webinar\nAre you ready to launch into your bigger life but feel that fear of public speaking is holding you back? Did you know that public speaking anxiety is the TOP PHOBIA\, affecting more people than fears of spiders\, heights\, darkness and even death! \nIt’s Time to Let That FEAR Go! \nWith the right training and support\, YOU CAN become a sought-after\, highly paid speaker. \nJoin us for this FREE information session to learn more about the upcoming Spectacular Speaker Workshop. \nThis free one-hour webinar will be held on Thursday\, March 5th at 6:00 pm Mountain Time. \nRegister for the webinar here »
URL:https://www.cynthiajames.net/event/spectacular-speaker-workshop-information-webinar/
LOCATION:Online Event
CATEGORIES:Webinar
ATTACH;FMTTYPE=image/jpeg:https://www.cynthiajames.net/wp-content/uploads/2020/03/spectacular-speakers-lg.jpg
END:VEVENT
END:VCALENDAR