BEGIN:VCALENDAR
VERSION:2.0
PRODID:-//Cynthia James - ECPv6.15.20//NONSGML v1.0//EN
CALSCALE:GREGORIAN
METHOD:PUBLISH
X-WR-CALNAME:Cynthia James
X-ORIGINAL-URL:https://www.cynthiajames.net
X-WR-CALDESC:Events for Cynthia James
REFRESH-INTERVAL;VALUE=DURATION:PT1H
X-Robots-Tag:noindex
X-PUBLISHED-TTL:PT1H
BEGIN:VTIMEZONE
TZID:America/Denver
BEGIN:DAYLIGHT
TZOFFSETFROM:-0700
TZOFFSETTO:-0600
TZNAME:MDT
DTSTART:20210314T090000
END:DAYLIGHT
BEGIN:STANDARD
TZOFFSETFROM:-0600
TZOFFSETTO:-0700
TZNAME:MST
DTSTART:20211107T080000
END:STANDARD
BEGIN:DAYLIGHT
TZOFFSETFROM:-0700
TZOFFSETTO:-0600
TZNAME:MDT
DTSTART:20220313T090000
END:DAYLIGHT
BEGIN:STANDARD
TZOFFSETFROM:-0600
TZOFFSETTO:-0700
TZNAME:MST
DTSTART:20221106T080000
END:STANDARD
BEGIN:DAYLIGHT
TZOFFSETFROM:-0700
TZOFFSETTO:-0600
TZNAME:MDT
DTSTART:20230312T090000
END:DAYLIGHT
BEGIN:STANDARD
TZOFFSETFROM:-0600
TZOFFSETTO:-0700
TZNAME:MST
DTSTART:20231105T080000
END:STANDARD
BEGIN:DAYLIGHT
TZOFFSETFROM:-0700
TZOFFSETTO:-0600
TZNAME:MDT
DTSTART:20240310T090000
END:DAYLIGHT
BEGIN:STANDARD
TZOFFSETFROM:-0600
TZOFFSETTO:-0700
TZNAME:MST
DTSTART:20241103T080000
END:STANDARD
BEGIN:DAYLIGHT
TZOFFSETFROM:-0700
TZOFFSETTO:-0600
TZNAME:MDT
DTSTART:20250309T090000
END:DAYLIGHT
BEGIN:STANDARD
TZOFFSETFROM:-0600
TZOFFSETTO:-0700
TZNAME:MST
DTSTART:20251102T080000
END:STANDARD
BEGIN:DAYLIGHT
TZOFFSETFROM:-0700
TZOFFSETTO:-0600
TZNAME:MDT
DTSTART:20260308T090000
END:DAYLIGHT
BEGIN:STANDARD
TZOFFSETFROM:-0600
TZOFFSETTO:-0700
TZNAME:MST
DTSTART:20261101T080000
END:STANDARD
BEGIN:DAYLIGHT
TZOFFSETFROM:-0700
TZOFFSETTO:-0600
TZNAME:MDT
DTSTART:20270314T090000
END:DAYLIGHT
BEGIN:STANDARD
TZOFFSETFROM:-0600
TZOFFSETTO:-0700
TZNAME:MST
DTSTART:20271107T080000
END:STANDARD
END:VTIMEZONE
BEGIN:VTIMEZONE
TZID:America/Chicago
BEGIN:DAYLIGHT
TZOFFSETFROM:-0600
TZOFFSETTO:-0500
TZNAME:CDT
DTSTART:20220313T080000
END:DAYLIGHT
BEGIN:STANDARD
TZOFFSETFROM:-0500
TZOFFSETTO:-0600
TZNAME:CST
DTSTART:20221106T070000
END:STANDARD
BEGIN:DAYLIGHT
TZOFFSETFROM:-0600
TZOFFSETTO:-0500
TZNAME:CDT
DTSTART:20230312T080000
END:DAYLIGHT
BEGIN:STANDARD
TZOFFSETFROM:-0500
TZOFFSETTO:-0600
TZNAME:CST
DTSTART:20231105T070000
END:STANDARD
BEGIN:DAYLIGHT
TZOFFSETFROM:-0600
TZOFFSETTO:-0500
TZNAME:CDT
DTSTART:20240310T080000
END:DAYLIGHT
BEGIN:STANDARD
TZOFFSETFROM:-0500
TZOFFSETTO:-0600
TZNAME:CST
DTSTART:20241103T070000
END:STANDARD
END:VTIMEZONE
BEGIN:VEVENT
DTSTART;VALUE=DATE:20260413
DTEND;VALUE=DATE:20260417
DTSTAMP:20260425T190949
CREATED:20260210T163621Z
LAST-MODIFIED:20260210T163621Z
UID:14781-1776038400-1776383999@www.cynthiajames.net
SUMMARY:The Conference on World Affairs 2026
DESCRIPTION:Join Cynthia James at The Conference on World Affairs 2026 at CU Boulder. \nSince 1948\, the Conference on World Affairs (CWA) has brought together global leaders\, innovators\, and experts to spark timely\, thought-provoking conversations on the issues shaping our world. \nFree and open to all—whether you join us in person at CU Boulder or via livestream—CWA invites audiences to connect\, question\, and be inspired. \nLearn more and register here »
URL:https://www.cynthiajames.net/event/the-conference-on-world-affairs-2026/
LOCATION:Limelight Hotel\, 1295 University Ave\, Boulder\, CO\, 80302\, United States
CATEGORIES:Conference,Singing,Speaking
ATTACH;FMTTYPE=image/webp:https://www.cynthiajames.net/wp-content/uploads/2026/02/conferenceonwfa.webp
END:VEVENT
BEGIN:VEVENT
DTSTART;TZID=America/Denver:20230917T090000
DTEND;TZID=America/Denver:20230917T110000
DTSTAMP:20260425T190949
CREATED:20230515T214522Z
LAST-MODIFIED:20231213T191958Z
UID:10922-1694941200-1694948400@www.cynthiajames.net
SUMMARY:Seaside Center for Spiritual Living
DESCRIPTION:Cynthia James will be Speaking\, Singing and holding a Workshop at the Seaside Center for Spiritual Living. \nSeptember 17\, 2023 \nLearn more here >>
URL:https://www.cynthiajames.net/event/seaside-center-for-spiritual-living/
LOCATION:Seaside Center for Spiritual Living\, 1613 Lake Drive\, Encinitas\, CA\, 92024\, United States
CATEGORIES:Singing,Speaking,Workshop
ATTACH;FMTTYPE=image/jpeg:https://www.cynthiajames.net/wp-content/uploads/2023/05/seasideevent.jpg
END:VEVENT
BEGIN:VEVENT
DTSTART;VALUE=DATE:20230820
DTEND;VALUE=DATE:20230821
DTSTAMP:20260425T190949
CREATED:20230119T220145Z
LAST-MODIFIED:20230419T140556Z
UID:10744-1692489600-1692575999@www.cynthiajames.net
SUMMARY:Center for Spiritual Living Reno
DESCRIPTION:Cynthia James will be speaking\, singing\, and holding a workshop at the Center for Spiritual Living Reno. \nAugust 20\, 2023 \nLearn more here >>
URL:https://www.cynthiajames.net/event/center-for-spiritual-living-reno-2/
LOCATION:Center for Spiritual Living – Reno\, 4685 Lakeside Drive\, Reno\, NV\, 89509\, United States
CATEGORIES:Singing,Speaking,Workshop
ATTACH;FMTTYPE=image/png:https://www.cynthiajames.net/wp-content/uploads/2019/08/Screen-Shot-2019-08-21-at-8.24.35-AM.png
END:VEVENT
BEGIN:VEVENT
DTSTART;TZID=America/Denver:20230324T070000
DTEND;TZID=America/Denver:20230324T160000
DTSTAMP:20260425T190949
CREATED:20230119T215305Z
LAST-MODIFIED:20230119T215305Z
UID:10735-1679641200-1679673600@www.cynthiajames.net
SUMMARY:Generation W
DESCRIPTION:March 24\, 2023 at UNF Fine Arts Center \nMark your calendars and join the W Community as we explore the Positive and the Possible! March 24\, 2023 we will gather for a powerful\, life-enhancing\, energy-producing day full of positive connections and inspiring possibilities. Cynthia James will be speaking and singing. \nPurchase Tickets 
URL:https://www.cynthiajames.net/event/generation-w/
LOCATION:University of North Florida – Fine Arts Center\, 1 University of North Florida Drive\, Jacksonville\, FL\, 32224\, United States
CATEGORIES:Singing,Speaking
ATTACH;FMTTYPE=image/jpeg:https://www.cynthiajames.net/wp-content/uploads/2023/01/generationw.jpg
END:VEVENT
BEGIN:VEVENT
DTSTART;VALUE=DATE:20230305
DTEND;VALUE=DATE:20230306
DTSTAMP:20260425T190949
CREATED:20230119T214709Z
LAST-MODIFIED:20230119T214709Z
UID:10730-1677974400-1678060799@www.cynthiajames.net
SUMMARY:Santa Rosa Center for Spiritual Living
DESCRIPTION:Cynthia James will be speaking\, singing and holding a workshop at the Santa Rosa Center for Spiritual Living. \nMarch 5\, 2023 \nLearn more here >>
URL:https://www.cynthiajames.net/event/santa-rosa-center-for-spiritual-living/
LOCATION:Center for Spiritual Living Santa Rosa\, 2075 Occidental Road\, Santa Rosa\, CA\, 95401\, United States
CATEGORIES:Singing,Speaking,Workshop
ATTACH;FMTTYPE=image/jpeg:https://www.cynthiajames.net/wp-content/uploads/2023/01/centerforspiritualliviingsantarosa.jpg
END:VEVENT
BEGIN:VEVENT
DTSTART;TZID=America/Chicago:20230223T190000
DTEND;TZID=America/Chicago:20230223T210000
DTSTAMP:20260425T190949
CREATED:20230202T201510Z
LAST-MODIFIED:20230202T214449Z
UID:10756-1677178800-1677186000@www.cynthiajames.net
SUMMARY:VISTA 2023 at the Dallas Center for Spiritual Living
DESCRIPTION:Cynthia James will be speaking and singing at the Dallas Center for Spiritual Healing during their VISTA 2023 event. \nFebruary 23\, 2023 \nLearn more here >>
URL:https://www.cynthiajames.net/event/vista-2023-dallas-center-for-spiritual-living/
LOCATION:Center for Spiritual Living Dallas\, 4801 Spring Valley Rd. Suite 115\, Dallas\, TX\, 75244\, United States
CATEGORIES:Singing,Speaking
ATTACH;FMTTYPE=image/jpeg:https://www.cynthiajames.net/wp-content/uploads/2023/02/vista2023.jpg
END:VEVENT
BEGIN:VEVENT
DTSTART;TZID=America/Denver:20230205T070000
DTEND;TZID=America/Denver:20230205T090000
DTSTAMP:20260425T190949
CREATED:20221012T145230Z
LAST-MODIFIED:20230130T210558Z
UID:10585-1675580400-1675587600@www.cynthiajames.net
SUMMARY:Speaking & Singing at Mile Hi Church
DESCRIPTION:Cynthia James will be speaking and singing at Mile Hi Church \nSunday\, February 5\, 2023 \n7:00am \nLearn more here >>
URL:https://www.cynthiajames.net/event/singing-at-mile-hi-church-2/
LOCATION:Mile Hi Church\, 9077 W. Alameda Ave\, Lakewood\, CO\, 80226\, United States
CATEGORIES:Event,Singing,Speaking
ATTACH;FMTTYPE=image/jpeg:https://www.cynthiajames.net/wp-content/uploads/2017/02/Mile-Hi-Church.jpg
END:VEVENT
BEGIN:VEVENT
DTSTART;VALUE=DATE:20221120
DTEND;VALUE=DATE:20221121
DTSTAMP:20260425T190949
CREATED:20220505T195717Z
LAST-MODIFIED:20220505T195717Z
UID:10258-1668902400-1668988799@www.cynthiajames.net
SUMMARY:Unity of Houston
DESCRIPTION:Cynthia James is speaking and singing at Unity of Houston on November 20\, 2022. \nLearn more at www.unityhouston.org.
URL:https://www.cynthiajames.net/event/unity-of-houston/
LOCATION:Unity Houston\, 2929 Unity Drive \, Houston\, TX\, 77057\, United States
CATEGORIES:Singing,Speaking
ATTACH;FMTTYPE=image/jpeg:https://www.cynthiajames.net/wp-content/uploads/2016/12/unity_houston.jpg
END:VEVENT
BEGIN:VEVENT
DTSTART;TZID=America/Denver:20221018T170000
DTEND;TZID=America/Denver:20221018T190000
DTSTAMP:20260425T190949
CREATED:20220902T143005Z
LAST-MODIFIED:20221012T145001Z
UID:10519-1666112400-1666119600@www.cynthiajames.net
SUMMARY:Global Living Institute Annual Fundraiser
DESCRIPTION:The Global Livingston Institute invites you our Annual Event Celebration & Fundraiser! \nJoin us at “GLI The Musical” for an evening of song and dance to celebrate the story of the Global Livingston Institute! \nHosted by Pat Hamill at Harman Hall. \nCynthia James will be singing at the Global Living Institute’s Annual Fundraiser. \nOctober\, 18\, 2022 \nLearn more here >>
URL:https://www.cynthiajames.net/event/global-living-institute-annual-fundraiser/
LOCATION:Global Living Institute – Denver\, 400 Saint Paul Street\, Denver\, CO\, 80206\, United States
CATEGORIES:Singing,Speaking
ATTACH;FMTTYPE=image/png:https://www.cynthiajames.net/wp-content/uploads/2019/10/GLIRoundedLogov1.png
ORGANIZER;CN="Global Living Institute":MAILTO:info@globallivingston.org
END:VEVENT
BEGIN:VEVENT
DTSTART;VALUE=DATE:20221016
DTEND;VALUE=DATE:20221017
DTSTAMP:20260425T190949
CREATED:20221012T144658Z
LAST-MODIFIED:20221012T145011Z
UID:10580-1665878400-1665964799@www.cynthiajames.net
SUMMARY:CSL Atlanta Singing/Speaking
DESCRIPTION:Spiritual Living Center Atlanta \nSunday Experience with Rev. Cynthia James\, who will be speaking and singing. \nAdult Study: 9:00 am – 10:00 am ET \nSunday Service: 10:30 am – 11:30 am ET \nLearn more here >>
URL:https://www.cynthiajames.net/event/csl-atlanta-singing-speaking/
LOCATION:CSL Atlanta\, 3107 Clairmont Rd Ste A\, Atlanda\, GA\, 30329\, United States
CATEGORIES:Singing,Speaking
ATTACH;FMTTYPE=image/jpeg:https://www.cynthiajames.net/wp-content/uploads/2022/10/scla-atlantaevent.jpg
END:VEVENT
BEGIN:VEVENT
DTSTART;TZID=America/Denver:20220814T070000
DTEND;TZID=America/Denver:20220814T090000
DTSTAMP:20260425T190949
CREATED:20220719T163920Z
LAST-MODIFIED:20220902T141509Z
UID:10378-1660460400-1660467600@www.cynthiajames.net
SUMMARY:Singing and Speaking at Agape International Spiritual Center
DESCRIPTION:Cynthia James will be singing and speaking at Agape International Spiritual Center \nSunday\, August 14\, 2022\n7:00am – 9:00am \nRead more here >> \n 
URL:https://www.cynthiajames.net/event/singing-and-speaking-at-agape-international-spiritual-center/
LOCATION:Online Event
CATEGORIES:Online Event,Singing,Speaking
ATTACH;FMTTYPE=image/jpeg:https://www.cynthiajames.net/wp-content/uploads/2021/01/agape-logo.jpg
END:VEVENT
BEGIN:VEVENT
DTSTART;TZID=America/Denver:20220807T070000
DTEND;TZID=America/Denver:20220807T090000
DTSTAMP:20260425T190949
CREATED:20220706T210037Z
LAST-MODIFIED:20220719T163243Z
UID:10374-1659855600-1659862800@www.cynthiajames.net
SUMMARY:Singing at Mile Hi Church
DESCRIPTION:Cynthia James will be singing at Mile Hi Church \nSunday\, August 7\, 2022 \n7:00am \nLearn more here >>
URL:https://www.cynthiajames.net/event/singing-at-mile-hi-church/
LOCATION:Mile Hi Church\, 9077 W. Alameda Ave\, Lakewood\, CO\, 80226\, United States
CATEGORIES:Event,Singing
ATTACH;FMTTYPE=image/jpeg:https://www.cynthiajames.net/wp-content/uploads/2017/02/Mile-Hi-Church.jpg
END:VEVENT
END:VCALENDAR