BEGIN:VCALENDAR
VERSION:2.0
PRODID:-//Cynthia James - ECPv6.15.20//NONSGML v1.0//EN
CALSCALE:GREGORIAN
METHOD:PUBLISH
X-WR-CALNAME:Cynthia James
X-ORIGINAL-URL:https://www.cynthiajames.net
X-WR-CALDESC:Events for Cynthia James
REFRESH-INTERVAL;VALUE=DURATION:PT1H
X-Robots-Tag:noindex
X-PUBLISHED-TTL:PT1H
BEGIN:VTIMEZONE
TZID:America/Denver
BEGIN:DAYLIGHT
TZOFFSETFROM:-0700
TZOFFSETTO:-0600
TZNAME:MDT
DTSTART:20240310T090000
END:DAYLIGHT
BEGIN:STANDARD
TZOFFSETFROM:-0600
TZOFFSETTO:-0700
TZNAME:MST
DTSTART:20241103T080000
END:STANDARD
BEGIN:DAYLIGHT
TZOFFSETFROM:-0700
TZOFFSETTO:-0600
TZNAME:MDT
DTSTART:20250309T090000
END:DAYLIGHT
BEGIN:STANDARD
TZOFFSETFROM:-0600
TZOFFSETTO:-0700
TZNAME:MST
DTSTART:20251102T080000
END:STANDARD
BEGIN:DAYLIGHT
TZOFFSETFROM:-0700
TZOFFSETTO:-0600
TZNAME:MDT
DTSTART:20260308T090000
END:DAYLIGHT
BEGIN:STANDARD
TZOFFSETFROM:-0600
TZOFFSETTO:-0700
TZNAME:MST
DTSTART:20261101T080000
END:STANDARD
END:VTIMEZONE
BEGIN:VEVENT
DTSTART;TZID=America/Denver:20251002T180000
DTEND;TZID=America/Denver:20251002T193000
DTSTAMP:20260424T005057
CREATED:20250320T194142Z
LAST-MODIFIED:20250320T194142Z
UID:13449-1759428000-1759433400@www.cynthiajames.net
SUMMARY:Community Conversations with Cynthia
DESCRIPTION:Find Connection and Support in Our Community Conversations with Cynthia James\nOur fast-paced world can feel overwhelming\, don’t you think? \nCommunity Conversations with Cynthia James are a space where we can pause\, share\, reflect\, and be heard. Every quarter\, we offer a safe space to share your experiences and be met with empathy and understanding. \nJoin us for our NEXT Community Conversations with Cynthia James. \nOct 2 at 6:00pm MT \nLearn more and register here >>
URL:https://www.cynthiajames.net/event/community-conversations-with-cynthia-2/
LOCATION:Online Event
CATEGORIES:Event,Online Event,Series
ATTACH;FMTTYPE=image/webp:https://www.cynthiajames.net/wp-content/uploads/2024/03/communityconversationswithcynthia.webp
END:VEVENT
END:VCALENDAR