BEGIN:VCALENDAR
VERSION:2.0
PRODID:-//Cynthia James - ECPv6.15.20//NONSGML v1.0//EN
CALSCALE:GREGORIAN
METHOD:PUBLISH
X-ORIGINAL-URL:https://www.cynthiajames.net
X-WR-CALDESC:Events for Cynthia James
REFRESH-INTERVAL;VALUE=DURATION:PT1H
X-Robots-Tag:noindex
X-PUBLISHED-TTL:PT1H
BEGIN:VTIMEZONE
TZID:America/Denver
BEGIN:DAYLIGHT
TZOFFSETFROM:-0700
TZOFFSETTO:-0600
TZNAME:MDT
DTSTART:20170312T090000
END:DAYLIGHT
BEGIN:STANDARD
TZOFFSETFROM:-0600
TZOFFSETTO:-0700
TZNAME:MST
DTSTART:20171105T080000
END:STANDARD
BEGIN:DAYLIGHT
TZOFFSETFROM:-0700
TZOFFSETTO:-0600
TZNAME:MDT
DTSTART:20180311T090000
END:DAYLIGHT
BEGIN:STANDARD
TZOFFSETFROM:-0600
TZOFFSETTO:-0700
TZNAME:MST
DTSTART:20181104T080000
END:STANDARD
BEGIN:DAYLIGHT
TZOFFSETFROM:-0700
TZOFFSETTO:-0600
TZNAME:MDT
DTSTART:20190310T090000
END:DAYLIGHT
BEGIN:STANDARD
TZOFFSETFROM:-0600
TZOFFSETTO:-0700
TZNAME:MST
DTSTART:20191103T080000
END:STANDARD
BEGIN:DAYLIGHT
TZOFFSETFROM:-0700
TZOFFSETTO:-0600
TZNAME:MDT
DTSTART:20200308T090000
END:DAYLIGHT
BEGIN:STANDARD
TZOFFSETFROM:-0600
TZOFFSETTO:-0700
TZNAME:MST
DTSTART:20201101T080000
END:STANDARD
BEGIN:DAYLIGHT
TZOFFSETFROM:-0700
TZOFFSETTO:-0600
TZNAME:MDT
DTSTART:20210314T090000
END:DAYLIGHT
BEGIN:STANDARD
TZOFFSETFROM:-0600
TZOFFSETTO:-0700
TZNAME:MST
DTSTART:20211107T080000
END:STANDARD
BEGIN:DAYLIGHT
TZOFFSETFROM:-0700
TZOFFSETTO:-0600
TZNAME:MDT
DTSTART:20220313T090000
END:DAYLIGHT
BEGIN:STANDARD
TZOFFSETFROM:-0600
TZOFFSETTO:-0700
TZNAME:MST
DTSTART:20221106T080000
END:STANDARD
BEGIN:DAYLIGHT
TZOFFSETFROM:-0700
TZOFFSETTO:-0600
TZNAME:MDT
DTSTART:20230312T090000
END:DAYLIGHT
BEGIN:STANDARD
TZOFFSETFROM:-0600
TZOFFSETTO:-0700
TZNAME:MST
DTSTART:20231105T080000
END:STANDARD
BEGIN:DAYLIGHT
TZOFFSETFROM:-0700
TZOFFSETTO:-0600
TZNAME:MDT
DTSTART:20240310T090000
END:DAYLIGHT
BEGIN:STANDARD
TZOFFSETFROM:-0600
TZOFFSETTO:-0700
TZNAME:MST
DTSTART:20241103T080000
END:STANDARD
BEGIN:DAYLIGHT
TZOFFSETFROM:-0700
TZOFFSETTO:-0600
TZNAME:MDT
DTSTART:20250309T090000
END:DAYLIGHT
BEGIN:STANDARD
TZOFFSETFROM:-0600
TZOFFSETTO:-0700
TZNAME:MST
DTSTART:20251102T080000
END:STANDARD
BEGIN:DAYLIGHT
TZOFFSETFROM:-0700
TZOFFSETTO:-0600
TZNAME:MDT
DTSTART:20260308T090000
END:DAYLIGHT
BEGIN:STANDARD
TZOFFSETFROM:-0600
TZOFFSETTO:-0700
TZNAME:MST
DTSTART:20261101T080000
END:STANDARD
END:VTIMEZONE
BEGIN:VEVENT
DTSTART;VALUE=DATE:20251006
DTEND;VALUE=DATE:20251019
DTSTAMP:20260423T122017
CREATED:20241014T171706Z
LAST-MODIFIED:20250217T162513Z
UID:12761-1759708800-1760831999@www.cynthiajames.net
SUMMARY:Egypt Trip 2025
DESCRIPTION:✨ Awaken the Magic Within—A Sacred Pilgrimage to Egypt ✨\nHave you ever felt the call of ancient wisdom whispering to your soul? A longing to stand where gods and pharaohs once walked? To step inside the Great Pyramid in private silence\, sail the sacred Nile\, and awaken the hidden mysteries within you? \n🌟 This is your invitation. 🌟 \nJoin me on an extraordinary spiritual journey to Egypt—a once-in-a-lifetime pilgrimage filled with ancient power\, deep transformation\, and soul activation: \n🔹 Exclusive\, private access to sacred sites\n🔹 Sunrise at the Temple of Isis—a moment of profound awakening\n🔹 5.5 days on a private Nile cruise—sailing in serenity\n🔹 Masterclasses in oils\, herbs\, rituals & historical mysteries\n🔹 5-star accommodations & extraordinary service \nThis is more than a trip. It’s a homecoming for your soul. \n🔮 Spaces are limited. Will you answer the call? \nDownload the PDF flyer for more information >> \nFor more information contact: cynthia@cynthiajames.net.
URL:https://www.cynthiajames.net/event/egypt-trip-2025/
LOCATION:Egypt\, Egypt
CATEGORIES:Pilgramage,Retreat
ATTACH;FMTTYPE=image/webp:https://www.cynthiajames.net/wp-content/uploads/2024/10/egypt2025-updated.webp
END:VEVENT
BEGIN:VEVENT
DTSTART;VALUE=DATE:20250602
DTEND;VALUE=DATE:20250610
DTSTAMP:20260423T122017
CREATED:20240411T161553Z
LAST-MODIFIED:20240422T144422Z
UID:12495-1748822400-1749513599@www.cynthiajames.net
SUMMARY:Damanhur Italy 2025
DESCRIPTION:Journey to Damanhur\, Italy and the Temples of Humankind\nNestled between the Turin and Aosta regions\, at the foothills of the Piedmont Alps\, lies a hidden gem that beckons seekers of spiritual enlightenment and artistic marvels. This sacred journey takes us to Damanhur\, a federation of spiritual communities that radiate a profound commitment to leaving a positive mark on the world \nJune 2 – 9\, 2025 \nLearn more and reserve your space here >>
URL:https://www.cynthiajames.net/event/damanhur-italy-2025/
LOCATION:Damanhur\, Italy\, Italy
CATEGORIES:Event,Inward Journeys,Pilgramage,Retreat
ATTACH;FMTTYPE=image/jpeg:https://www.cynthiajames.net/wp-content/uploads/2024/04/unnamed.jpg
END:VEVENT
BEGIN:VEVENT
DTSTART;TZID=America/Denver:20241007T000000
DTEND;TZID=America/Denver:20241012T235900
DTSTAMP:20260423T122017
CREATED:20231213T191919Z
LAST-MODIFIED:20241014T143007Z
UID:12339-1728259200-1728777540@www.cynthiajames.net
SUMMARY:Egypt Trip 2024
DESCRIPTION:I am so thrilled to be taking a group to Egypt on October 7 – 19\, 2024. I am only taking 14 people and hope to have it filled soon. This is a first class trip. We stay in 5-star hotels\, have luxury buses with toilets\, egyptologist\, esoteric Egyptian historian and me. We also have a tour guide that travels with us and security (even though we didn’t need it). We will fly into Cairo. The trip cost is $6699. \nTransportation to and from airport is included. As are almost all meals. The food is incredible. Even on “our” private boat down the Nile for 5 1/2 days. There are single rooms available for an extra fee except on the boat. There are only 8 cabins so some people share. They take fantastic care of us. \nWe meet as a group 3 times before the trip to do spiritual practice and prepare ourselves for the deepest dive. \nI will do meditations and practices to start our days and Crotalo and the egyptologist are the guides to the temples and pyramids. Crotalo is a master teacher/healer and taught many classes in the mystery school I hosted at my home. The Egyptologists are certified after 4 years of intensive training and ongoing certification as things change in Egypt. \nThis trip is magic. The 2022 group had many healings and mystical experiences. Plus\, we bonded as a community. We do walk a lot and enter temples and pyramids. Some of our visits are private. Some of the visits are physical but every person (even elderly) on my trip was able to go into all of the venues. Download the brochure for a preview of this trip. \nEmail me if you wish to register and I will send information. There are payment plans available.
URL:https://www.cynthiajames.net/event/egypt-trip-2024/
LOCATION:Egypt\, Egypt
CATEGORIES:Pilgramage,Retreat
ATTACH;FMTTYPE=image/jpeg:https://www.cynthiajames.net/wp-content/uploads/2023/01/event-egypt.jpg
END:VEVENT
BEGIN:VEVENT
DTSTART;VALUE=DATE:20231016
DTEND;VALUE=DATE:20231017
DTSTAMP:20260423T122017
CREATED:20230106T201505Z
LAST-MODIFIED:20231019T154858Z
UID:10713-1697414400-1697500799@www.cynthiajames.net
SUMMARY:Egypt Trip - Sold Out
DESCRIPTION:This trip is Sold Out! \nI am so thrilled to be taking a group to Egypt on October 16-28\, 2023. I am only taking 14 people and hope to have it filled soon. This is a first class trip. We stay in 5-star hotels\, have luxury buses with toilets\, egyptologist\, esoteric Egyptian historian and me. We also have a tour guide that travels with us and security (even though we didn’t need it). We will fly into Cairo. The trip cost is $6600. \nTransportation to and from airport is included. As are almost all meals. The food is incredible. Even on “our” private boat down the Nile for 5 1/2 days. There are single rooms available for an extra fee except on the boat. There are only 8 cabins so some people share. They take fantastic care of us. \nWe meet as a group 3 times before the trip to do spiritual practice and prepare ourselves for the deepest dive. \nI will do meditations and practices to start our days and Crotalo and the egyptologist are the guides to the temples and pyramids. Crotalo is a master teacher/healer and taught many classes in the mystery school I hosted at my home. The Egyptologists are certified after 4 years of intensive training and ongoing certification as things change in Egypt. \nThis trip is magic. The 2022 group had many healings and mystical experiences. Plus\, we bonded as a community. We do walk a lot and enter temples and pyramids. Some of our visits are private. Some of the visits are physical but every person (even elderly) on my trip was able to go into all of the venues. Download the brochure for a preview of this trip. \nEmail me if you wish to register and I will send information. There are payment plans available.
URL:https://www.cynthiajames.net/event/egypt-trip/
LOCATION:Egypt\, Egypt
CATEGORIES:Pilgramage,Retreat
ATTACH;FMTTYPE=image/jpeg:https://www.cynthiajames.net/wp-content/uploads/2023/01/event-egypt.jpg
END:VEVENT
BEGIN:VEVENT
DTSTART;VALUE=DATE:20220624
DTEND;VALUE=DATE:20220627
DTSTAMP:20260423T122017
CREATED:20220505T194758Z
LAST-MODIFIED:20220505T195041Z
UID:10249-1656028800-1656287999@www.cynthiajames.net
SUMMARY:Becoming Fierce Women's Empowerment Retreat
DESCRIPTION:After two years of many challenges that kept us apart\, it is time to come together and thrive! Join Stephanie James\, Cynthia James and other world thought leaders\, change makers\, and wisdom keepers for the June 24th-26th\, Becoming Fierce Women’s Empowerment Retreat that will give you the keys to creating a bold and beautiful life. \nLearn more and register here: https://www.stephaniejames.world/becomingfierce
URL:https://www.cynthiajames.net/event/becoming-fierce-womens-empowerment-retreat/
LOCATION:Estes Park\, Estes Park\, United States
CATEGORIES:Event,Private Event,Retreat
ATTACH;FMTTYPE=image/jpeg:https://www.cynthiajames.net/wp-content/uploads/2022/05/event-becomingfierce.jpg
END:VEVENT
BEGIN:VEVENT
DTSTART;VALUE=DATE:20191108
DTEND;VALUE=DATE:20191110
DTSTAMP:20260423T122017
CREATED:20190725T211904Z
LAST-MODIFIED:20220505T193700Z
UID:8798-1573171200-1573343999@www.cynthiajames.net
SUMMARY:Women Creating Our Futures: Building Healthy Relationships Retreat
DESCRIPTION:North Chamber Women’s Leadership\nWomen Creating Our Futures: Building Healthy Relationships Retreat \nThe Women Creating Our Futures Leadership Program is designed to provide emerging female professionals the opportunity to significantly expand and enhance their leadership skills while building a professional network that will serve them and their organizations throughout their careers. The year-long program consists of three quarterly day-long sessions and a two-day intensive retreat. \nRegister here »
URL:https://www.cynthiajames.net/event/women-creating-our-futures-building-healthy-relationships-retreat/
LOCATION:Metro North Chamber of Commerce
CATEGORIES:Retreat
ATTACH;FMTTYPE=image/jpeg:https://www.cynthiajames.net/wp-content/uploads/2019/07/wcof-chamberevent.jpg
ORGANIZER;CN="Women Creating Our Futures":MAILTO:info@womencreatingourfutures.com
END:VEVENT
BEGIN:VEVENT
DTSTART;VALUE=DATE:20190607
DTEND;VALUE=DATE:20190611
DTSTAMP:20260423T122017
CREATED:20190510T183323Z
LAST-MODIFIED:20190510T184112Z
UID:8648-1559865600-1560211199@www.cynthiajames.net
SUMMARY:Women's Leadership Conference (Uganda)
DESCRIPTION:Cynthia is the Conference Co-Chair for the Women’s Leadership Conference in Uganda.
URL:https://www.cynthiajames.net/event/womens-leadership-conference-uganda/
LOCATION:Uganda
CATEGORIES:Retreat
ATTACH;FMTTYPE=image/jpeg:https://www.cynthiajames.net/wp-content/uploads/2019/05/globallivingston-conference-uganda.jpg
ORGANIZER;CN="Global Living Institute":MAILTO:info@globallivingston.org
END:VEVENT
BEGIN:VEVENT
DTSTART;VALUE=DATE:20181104
DTEND;VALUE=DATE:20181110
DTSTAMP:20260423T122017
CREATED:20180816T155511Z
LAST-MODIFIED:20180816T155511Z
UID:8185-1541289600-1541807999@www.cynthiajames.net
SUMMARY:Circle of Love (British Columbia)
DESCRIPTION:Circle of Love – November 5-9\, 2018 Kingfisher Oceanside Resort – Vancouver Island\, BC Canada\nThe Circle of Love Gathering inspires\, nourishes\, and deepens our connection to each other\, the planet\, and to all that is Sacred.  The Circle of Love is  a three to four-day event that invites participants into a direct experience of love by developing \n\n\nAwareness (body/mind/spirit) \nConnection (to self\, Source\, and nature) and \nExpression (movement\, art\, and music.)
URL:https://www.cynthiajames.net/event/circle-of-love-british-columbia/
LOCATION:Kingfisher Oceanside Resort & Spa\, 4330 Island Highway South\, Royston\, BC\, V9N 9R9\, Canada
CATEGORIES:Retreat
ATTACH;FMTTYPE=image/jpeg:https://www.cynthiajames.net/wp-content/uploads/2018/08/circle-of-love-bc.jpg
END:VEVENT
BEGIN:VEVENT
DTSTART;TZID=America/Denver:20180901T150000
DTEND;TZID=America/Denver:20180906T093000
DTSTAMP:20260423T122017
CREATED:20180620T152757Z
LAST-MODIFIED:20180620T152757Z
UID:8170-1535814000-1536226200@www.cynthiajames.net
SUMMARY:Big Sky Retreat
DESCRIPTION:9:15 am-11: 30 am Morning Program / Speaker: Rev. Cynthia James -“Self-Care Mastery” \n2:00 pm-4:00 pm Workshop: Rev. Cynthia James -“Self-Care Mastery” part 2
URL:https://www.cynthiajames.net/event/big-sky-retreat/
LOCATION:Big Sky Resort\, 50 Big Sky Resort Road\, Big Sky\, 59716\, United States
CATEGORIES:Retreat
ATTACH;FMTTYPE=image/png:https://www.cynthiajames.net/wp-content/uploads/2018/06/2018-Spiritual-Convention-3.png
END:VEVENT
BEGIN:VEVENT
DTSTART;TZID=America/Denver:20180601T080000
DTEND;TZID=America/Denver:20180604T170000
DTSTAMP:20260423T122017
CREATED:20180414T000723Z
LAST-MODIFIED:20180414T001244Z
UID:8034-1527840000-1528131600@www.cynthiajames.net
SUMMARY:Women's Leadership Retreat
DESCRIPTION:Each June since 2013\, more than 20 influential women from the United States and East Africa have come together for a three-day conference at the Entusi Resort and Retreat Center to foster women’s empowerment\, collaborative thinking\, dialogue\, and culture sharing. \nThe conference\, co-chaired each year by a Ugandan and an American\, has hosted women working in public\, private\, nonprofit and academic sectors. Past areas of focus have included topics such as work-life balance\, goal setting\, and gender rights. But more importantly\, the Women’s Leadership Retreat has become a place for key leaders from around the globe to come together and tell their stories; to have a seat at the table and to grow their networks to impact positive change; to listen and think… and then act. And when they are finished listening and thinking at the Women’s Leadership Summit and begin to act…some amazing things happen! \nAfter spending three days listening and thinking with one another\, the Women’s Leadership Retreat has led to many exciting outcomes. Some women have decided to further their education\, assumed leadership positions in business enterprises\, and formed lasting relationships with new mentors. \nTwo alumnae\, Agnes Igoye (leading expert on human trafficking in East Africa) and Florence Ozor (a founder of the #BringBackOurGirls movement in Nigeria) have traveled to the United States with the GLI to raise awareness and grow their voice on issues they raised at the Women’s Leadership Summit. Ultimately\, the outcomes for each conference are defined by the conversations that take place at Entusi. \nIn 2018\, we are partnering with our friends at the Extraordinary Living Foundation to produce the 6th Annual Women’s Leadership Retreat. This year’s dates are June 1-4\, 2018! \nAre you or someone you know interested in attending the 2018 Women’s Leadership Retreat? E-mail us at info@globallivingston.org for more information!
URL:https://www.cynthiajames.net/event/womens-leadership-retreat-2/
LOCATION:Entusi Resort and Retreat Center\, Box 942\, Kabale District\, Kabale\, Uganda
CATEGORIES:Retreat
ATTACH;FMTTYPE=image/png:https://www.cynthiajames.net/wp-content/uploads/2018/04/2018-Spiritual-Convention-5-e1523664523163.png
END:VEVENT
END:VCALENDAR