BEGIN:VCALENDAR
VERSION:2.0
PRODID:-//Cynthia James - ECPv6.15.20//NONSGML v1.0//EN
CALSCALE:GREGORIAN
METHOD:PUBLISH
X-ORIGINAL-URL:https://www.cynthiajames.net
X-WR-CALDESC:Events for Cynthia James
REFRESH-INTERVAL;VALUE=DURATION:PT1H
X-Robots-Tag:noindex
X-PUBLISHED-TTL:PT1H
BEGIN:VTIMEZONE
TZID:America/Denver
BEGIN:DAYLIGHT
TZOFFSETFROM:-0700
TZOFFSETTO:-0600
TZNAME:MDT
DTSTART:20240310T090000
END:DAYLIGHT
BEGIN:STANDARD
TZOFFSETFROM:-0600
TZOFFSETTO:-0700
TZNAME:MST
DTSTART:20241103T080000
END:STANDARD
BEGIN:DAYLIGHT
TZOFFSETFROM:-0700
TZOFFSETTO:-0600
TZNAME:MDT
DTSTART:20250309T090000
END:DAYLIGHT
BEGIN:STANDARD
TZOFFSETFROM:-0600
TZOFFSETTO:-0700
TZNAME:MST
DTSTART:20251102T080000
END:STANDARD
BEGIN:DAYLIGHT
TZOFFSETFROM:-0700
TZOFFSETTO:-0600
TZNAME:MDT
DTSTART:20260308T090000
END:DAYLIGHT
BEGIN:STANDARD
TZOFFSETFROM:-0600
TZOFFSETTO:-0700
TZNAME:MST
DTSTART:20261101T080000
END:STANDARD
END:VTIMEZONE
BEGIN:VEVENT
DTSTART;VALUE=DATE:20251006
DTEND;VALUE=DATE:20251019
DTSTAMP:20260423T215201
CREATED:20241014T171706Z
LAST-MODIFIED:20250217T162513Z
UID:12761-1759708800-1760831999@www.cynthiajames.net
SUMMARY:Egypt Trip 2025
DESCRIPTION:✨ Awaken the Magic Within—A Sacred Pilgrimage to Egypt ✨\nHave you ever felt the call of ancient wisdom whispering to your soul? A longing to stand where gods and pharaohs once walked? To step inside the Great Pyramid in private silence\, sail the sacred Nile\, and awaken the hidden mysteries within you? \n🌟 This is your invitation. 🌟 \nJoin me on an extraordinary spiritual journey to Egypt—a once-in-a-lifetime pilgrimage filled with ancient power\, deep transformation\, and soul activation: \n🔹 Exclusive\, private access to sacred sites\n🔹 Sunrise at the Temple of Isis—a moment of profound awakening\n🔹 5.5 days on a private Nile cruise—sailing in serenity\n🔹 Masterclasses in oils\, herbs\, rituals & historical mysteries\n🔹 5-star accommodations & extraordinary service \nThis is more than a trip. It’s a homecoming for your soul. \n🔮 Spaces are limited. Will you answer the call? \nDownload the PDF flyer for more information >> \nFor more information contact: cynthia@cynthiajames.net.
URL:https://www.cynthiajames.net/event/egypt-trip-2025/
LOCATION:Egypt\, Egypt
CATEGORIES:Pilgramage,Retreat
ATTACH;FMTTYPE=image/webp:https://www.cynthiajames.net/wp-content/uploads/2024/10/egypt2025-updated.webp
END:VEVENT
END:VCALENDAR