BEGIN:VCALENDAR
VERSION:2.0
PRODID:-//Cynthia James - ECPv6.15.20//NONSGML v1.0//EN
CALSCALE:GREGORIAN
METHOD:PUBLISH
X-ORIGINAL-URL:https://www.cynthiajames.net
X-WR-CALDESC:Events for Cynthia James
REFRESH-INTERVAL;VALUE=DURATION:PT1H
X-Robots-Tag:noindex
X-PUBLISHED-TTL:PT1H
BEGIN:VTIMEZONE
TZID:America/Denver
BEGIN:DAYLIGHT
TZOFFSETFROM:-0700
TZOFFSETTO:-0600
TZNAME:MDT
DTSTART:20230312T090000
END:DAYLIGHT
BEGIN:STANDARD
TZOFFSETFROM:-0600
TZOFFSETTO:-0700
TZNAME:MST
DTSTART:20231105T080000
END:STANDARD
BEGIN:DAYLIGHT
TZOFFSETFROM:-0700
TZOFFSETTO:-0600
TZNAME:MDT
DTSTART:20240310T090000
END:DAYLIGHT
BEGIN:STANDARD
TZOFFSETFROM:-0600
TZOFFSETTO:-0700
TZNAME:MST
DTSTART:20241103T080000
END:STANDARD
BEGIN:DAYLIGHT
TZOFFSETFROM:-0700
TZOFFSETTO:-0600
TZNAME:MDT
DTSTART:20250309T090000
END:DAYLIGHT
BEGIN:STANDARD
TZOFFSETFROM:-0600
TZOFFSETTO:-0700
TZNAME:MST
DTSTART:20251102T080000
END:STANDARD
END:VTIMEZONE
BEGIN:VEVENT
DTSTART;TZID=America/Denver:20241007T000000
DTEND;TZID=America/Denver:20241012T235900
DTSTAMP:20260424T190623
CREATED:20231213T191919Z
LAST-MODIFIED:20241014T143007Z
UID:12339-1728259200-1728777540@www.cynthiajames.net
SUMMARY:Egypt Trip 2024
DESCRIPTION:I am so thrilled to be taking a group to Egypt on October 7 – 19\, 2024. I am only taking 14 people and hope to have it filled soon. This is a first class trip. We stay in 5-star hotels\, have luxury buses with toilets\, egyptologist\, esoteric Egyptian historian and me. We also have a tour guide that travels with us and security (even though we didn’t need it). We will fly into Cairo. The trip cost is $6699. \nTransportation to and from airport is included. As are almost all meals. The food is incredible. Even on “our” private boat down the Nile for 5 1/2 days. There are single rooms available for an extra fee except on the boat. There are only 8 cabins so some people share. They take fantastic care of us. \nWe meet as a group 3 times before the trip to do spiritual practice and prepare ourselves for the deepest dive. \nI will do meditations and practices to start our days and Crotalo and the egyptologist are the guides to the temples and pyramids. Crotalo is a master teacher/healer and taught many classes in the mystery school I hosted at my home. The Egyptologists are certified after 4 years of intensive training and ongoing certification as things change in Egypt. \nThis trip is magic. The 2022 group had many healings and mystical experiences. Plus\, we bonded as a community. We do walk a lot and enter temples and pyramids. Some of our visits are private. Some of the visits are physical but every person (even elderly) on my trip was able to go into all of the venues. Download the brochure for a preview of this trip. \nEmail me if you wish to register and I will send information. There are payment plans available.
URL:https://www.cynthiajames.net/event/egypt-trip-2024/
LOCATION:Egypt\, Egypt
CATEGORIES:Pilgramage,Retreat
ATTACH;FMTTYPE=image/jpeg:https://www.cynthiajames.net/wp-content/uploads/2023/01/event-egypt.jpg
END:VEVENT
END:VCALENDAR