BEGIN:VCALENDAR
VERSION:2.0
PRODID:-//Cynthia James - ECPv6.15.20//NONSGML v1.0//EN
CALSCALE:GREGORIAN
METHOD:PUBLISH
X-WR-CALNAME:Cynthia James
X-ORIGINAL-URL:https://www.cynthiajames.net
X-WR-CALDESC:Events for Cynthia James
REFRESH-INTERVAL;VALUE=DURATION:PT1H
X-Robots-Tag:noindex
X-PUBLISHED-TTL:PT1H
BEGIN:VTIMEZONE
TZID:America/Denver
BEGIN:DAYLIGHT
TZOFFSETFROM:-0700
TZOFFSETTO:-0600
TZNAME:MDT
DTSTART:20180311T090000
END:DAYLIGHT
BEGIN:STANDARD
TZOFFSETFROM:-0600
TZOFFSETTO:-0700
TZNAME:MST
DTSTART:20181104T080000
END:STANDARD
BEGIN:DAYLIGHT
TZOFFSETFROM:-0700
TZOFFSETTO:-0600
TZNAME:MDT
DTSTART:20190310T090000
END:DAYLIGHT
BEGIN:STANDARD
TZOFFSETFROM:-0600
TZOFFSETTO:-0700
TZNAME:MST
DTSTART:20191103T080000
END:STANDARD
BEGIN:DAYLIGHT
TZOFFSETFROM:-0700
TZOFFSETTO:-0600
TZNAME:MDT
DTSTART:20200308T090000
END:DAYLIGHT
BEGIN:STANDARD
TZOFFSETFROM:-0600
TZOFFSETTO:-0700
TZNAME:MST
DTSTART:20201101T080000
END:STANDARD
BEGIN:DAYLIGHT
TZOFFSETFROM:-0700
TZOFFSETTO:-0600
TZNAME:MDT
DTSTART:20210314T090000
END:DAYLIGHT
BEGIN:STANDARD
TZOFFSETFROM:-0600
TZOFFSETTO:-0700
TZNAME:MST
DTSTART:20211107T080000
END:STANDARD
BEGIN:DAYLIGHT
TZOFFSETFROM:-0700
TZOFFSETTO:-0600
TZNAME:MDT
DTSTART:20220313T090000
END:DAYLIGHT
BEGIN:STANDARD
TZOFFSETFROM:-0600
TZOFFSETTO:-0700
TZNAME:MST
DTSTART:20221106T080000
END:STANDARD
BEGIN:DAYLIGHT
TZOFFSETFROM:-0700
TZOFFSETTO:-0600
TZNAME:MDT
DTSTART:20230312T090000
END:DAYLIGHT
BEGIN:STANDARD
TZOFFSETFROM:-0600
TZOFFSETTO:-0700
TZNAME:MST
DTSTART:20231105T080000
END:STANDARD
END:VTIMEZONE
BEGIN:VEVENT
DTSTART;TZID=America/Denver:20221012T180000
DTEND;TZID=America/Denver:20221012T210000
DTSTAMP:20260423T154329
CREATED:20220902T141714Z
LAST-MODIFIED:20220906T170050Z
UID:10507-1665597600-1665608400@www.cynthiajames.net
SUMMARY:Book Launch Reading/Music Party
DESCRIPTION:Book Launch Reading/Music Party \nOctober 12\, 2022 \nNew York \nPrivate Event
URL:https://www.cynthiajames.net/event/book-launch-reading-music-party-2/
LOCATION:Private Event\, Denver\, United States
CATEGORIES:Private Event
ATTACH;FMTTYPE=image/jpeg:https://www.cynthiajames.net/wp-content/uploads/2022/09/doesmyvoicematter-booklaunch-event.jpg
END:VEVENT
BEGIN:VEVENT
DTSTART;VALUE=DATE:20220624
DTEND;VALUE=DATE:20220627
DTSTAMP:20260423T154329
CREATED:20220505T194758Z
LAST-MODIFIED:20220505T195041Z
UID:10249-1656028800-1656287999@www.cynthiajames.net
SUMMARY:Becoming Fierce Women's Empowerment Retreat
DESCRIPTION:After two years of many challenges that kept us apart\, it is time to come together and thrive! Join Stephanie James\, Cynthia James and other world thought leaders\, change makers\, and wisdom keepers for the June 24th-26th\, Becoming Fierce Women’s Empowerment Retreat that will give you the keys to creating a bold and beautiful life. \nLearn more and register here: https://www.stephaniejames.world/becomingfierce
URL:https://www.cynthiajames.net/event/becoming-fierce-womens-empowerment-retreat/
LOCATION:Estes Park\, Estes Park\, United States
CATEGORIES:Event,Private Event,Retreat
ATTACH;FMTTYPE=image/jpeg:https://www.cynthiajames.net/wp-content/uploads/2022/05/event-becomingfierce.jpg
END:VEVENT
BEGIN:VEVENT
DTSTART;VALUE=DATE:20200313
DTEND;VALUE=DATE:20200316
DTSTAMP:20260423T154329
CREATED:20200130T171610Z
LAST-MODIFIED:20220505T193700Z
UID:9032-1584057600-1584316799@www.cynthiajames.net
SUMMARY:AWE - Academy of Women Emerging for Entrepreneurs
DESCRIPTION:Cynthia is co-founder/facilitator of AWE – Academy of Women Emerging.
URL:https://www.cynthiajames.net/event/awe-academy-of-women-emerging-for-entrepreneurs/
LOCATION:Private Event\, Denver\, United States
CATEGORIES:Private Event
ATTACH;FMTTYPE=image/jpeg:https://www.cynthiajames.net/wp-content/uploads/2020/01/awe-1.jpg
END:VEVENT
BEGIN:VEVENT
DTSTART;VALUE=DATE:20191025
DTEND;VALUE=DATE:20191027
DTSTAMP:20260423T154329
CREATED:20190725T213518Z
LAST-MODIFIED:20220505T193700Z
UID:8810-1571961600-1572134399@www.cynthiajames.net
SUMMARY:Seattle Center for Spiritual Living Practitioner Retreat
DESCRIPTION:Private event.
URL:https://www.cynthiajames.net/event/seattle-center-for-spiritual-living-practitioner-retreat/
LOCATION:Seattle Center for Spiritual Living\, Seattle\, WA\, United States
CATEGORIES:Private Event
ATTACH;FMTTYPE=image/jpeg:https://www.cynthiajames.net/wp-content/uploads/2019/07/seattlecenterspirituallivingretreat.jpg
END:VEVENT
END:VCALENDAR