BEGIN:VCALENDAR
VERSION:2.0
PRODID:-//Cynthia James - ECPv6.15.20//NONSGML v1.0//EN
CALSCALE:GREGORIAN
METHOD:PUBLISH
X-ORIGINAL-URL:https://www.cynthiajames.net
X-WR-CALDESC:Events for Cynthia James
REFRESH-INTERVAL;VALUE=DURATION:PT1H
X-Robots-Tag:noindex
X-PUBLISHED-TTL:PT1H
BEGIN:VTIMEZONE
TZID:America/Denver
BEGIN:DAYLIGHT
TZOFFSETFROM:-0700
TZOFFSETTO:-0600
TZNAME:MDT
DTSTART:20190310T090000
END:DAYLIGHT
BEGIN:STANDARD
TZOFFSETFROM:-0600
TZOFFSETTO:-0700
TZNAME:MST
DTSTART:20191103T080000
END:STANDARD
BEGIN:DAYLIGHT
TZOFFSETFROM:-0700
TZOFFSETTO:-0600
TZNAME:MDT
DTSTART:20200308T090000
END:DAYLIGHT
BEGIN:STANDARD
TZOFFSETFROM:-0600
TZOFFSETTO:-0700
TZNAME:MST
DTSTART:20201101T080000
END:STANDARD
BEGIN:DAYLIGHT
TZOFFSETFROM:-0700
TZOFFSETTO:-0600
TZNAME:MDT
DTSTART:20210314T090000
END:DAYLIGHT
BEGIN:STANDARD
TZOFFSETFROM:-0600
TZOFFSETTO:-0700
TZNAME:MST
DTSTART:20211107T080000
END:STANDARD
BEGIN:DAYLIGHT
TZOFFSETFROM:-0700
TZOFFSETTO:-0600
TZNAME:MDT
DTSTART:20220313T090000
END:DAYLIGHT
BEGIN:STANDARD
TZOFFSETFROM:-0600
TZOFFSETTO:-0700
TZNAME:MST
DTSTART:20221106T080000
END:STANDARD
END:VTIMEZONE
BEGIN:VEVENT
DTSTART;VALUE=DATE:20210125
DTEND;VALUE=DATE:20210130
DTSTAMP:20260423T173246
CREATED:20210125T194803Z
LAST-MODIFIED:20210125T194858Z
UID:9535-1611532800-1611964799@www.cynthiajames.net
SUMMARY:Best of LIMITLESS: WOMEN RISING
DESCRIPTION:What would you do if you knew you were truly limitless in what you can create for 2021? \nThis month’s event kicks off on Monday\, January 25 and runs through Friday\, January 29th – each day you’ll have access to three more conversations from these truly amazing speakers.  You’ll glean pearls of wisdom from every presenter\, gain new tools and resources to help you communicate better\, find your purpose\, manifest more powerfully\, and step forward into embracing your true feminine power on an even deeper level. \nAccess the videos here »
URL:https://www.cynthiajames.net/event/best-of-limitless-women-rising/
LOCATION:Online Event
CATEGORIES:Event,Online Event
ATTACH;FMTTYPE=image/jpeg:https://www.cynthiajames.net/wp-content/uploads/2021/01/event-limitless.jpg
END:VEVENT
BEGIN:VEVENT
DTSTART;VALUE=DATE:20200914
DTEND;VALUE=DATE:20200929
DTSTAMP:20260423T173246
CREATED:20200902T170720Z
LAST-MODIFIED:20220505T193556Z
UID:9372-1600041600-1601337599@www.cynthiajames.net
SUMMARY:Season Five of the Inner Warrior Summit
DESCRIPTION:Cut Through Chaos\, Claim Your Power\, Radiate Your Light\nOnline Master Class \nFeaturing Cynthia James \nThe summit will run from September 14th – September 28th\, with 2 replay days September 29th – 30th. \nRegister here »
URL:https://www.cynthiajames.net/event/season-five-of-the-inner-warrior-summit/
LOCATION:Online Event
CATEGORIES:Event,Online Event
ATTACH;FMTTYPE=image/jpeg:https://www.cynthiajames.net/wp-content/uploads/2020/09/IWS2020-FBTemplate-Speaker-Cynthia-James.jpg
END:VEVENT
BEGIN:VEVENT
DTSTART;TZID=America/Denver:20200619T180000
DTEND;TZID=America/Denver:20200619T193000
DTSTAMP:20260423T173246
CREATED:20200616T155952Z
LAST-MODIFIED:20220505T193556Z
UID:9241-1592589600-1592595000@www.cynthiajames.net
SUMMARY:Women's Conversation of the Heart
DESCRIPTION:Join me for a Women’s Conversation of the Heart\nFriday\, June 19 6:00 – 7:30 pm MDT \nThere is a deep call on this planet\, for a shift in consciousness and an awakening of humanity\, as evidenced by the civil unrest in America on the heels of a global pandemic. It is a critical time for like-minded people to come together to bring about healing and to make the call for healing\, transformation\, and non-violence. \nIt is also a time for us to talk to and with one another\, to create spaces of safe\, conscious\, and loving dialogue. We heal through seeing each other\, listening to each other and honoring our pain. \nThis is an invitation for you\, as a woman\, to join me and members of this community to have a CONVERSATION OF THE HEART. I believe women are change-makers for this time on the planet. Our innate capacity to care\, nurture and love is desperately needed. What I envision: \n\nSafe space to share and be heard\nSharing of the pain we are all feeling\nRelease of conscious and unconscious bias\nProcess of forgiveness\nPrayer for us\, our nation and our world\n\nRegister here for this event »
URL:https://www.cynthiajames.net/event/womens-conversation-of-the-heart/
LOCATION:Online Event
CATEGORIES:Online Event
ATTACH;FMTTYPE=image/jpeg:https://www.cynthiajames.net/wp-content/uploads/2020/06/heart-to-heart.jpg
END:VEVENT
BEGIN:VEVENT
DTSTART;VALUE=DATE:20200619
DTEND;VALUE=DATE:20200620
DTSTAMP:20260423T173246
CREATED:20200618T155019Z
LAST-MODIFIED:20220505T193556Z
UID:9256-1592524800-1592611199@www.cynthiajames.net
SUMMARY:Bridging Spirituality with Action for Positive Change
DESCRIPTION:Bridging Spirituality with Action for Positive Change\nA Dialogue with Gurudev Sri Sri Ravi Shankar\nFriday\, June 19th 2020\n12:00 Noon EDT\n9:30 PM IST \nJoin the conversation here »
URL:https://www.cynthiajames.net/event/bridging-spirituality-with-action-for-positive-change/
LOCATION:Online Event
CATEGORIES:Online Event
ATTACH;FMTTYPE=image/jpeg:https://www.cynthiajames.net/wp-content/uploads/2020/06/artoflivingdialoguewithsrisri.jpg
ORGANIZER;CN="The Art of Living":MAILTO:iwc@artofliving.org
END:VEVENT
BEGIN:VEVENT
DTSTART;TZID=America/Denver:20200617T143000
DTEND;TZID=America/Denver:20200617T153000
DTSTAMP:20260423T173246
CREATED:20200616T162143Z
LAST-MODIFIED:20220505T193557Z
UID:9243-1592404200-1592407800@www.cynthiajames.net
SUMMARY:A Conversation with Geneen Roth
DESCRIPTION:Join transformation specialist\, inspirational leader\, award-winning author and Champion for Change Cynthia James for “Navigating Separation: Them vs Us”\, a special Facebook Live event with author Geneen Roth. \nWednesday\, June 17 2:30pm PT \nTune in for this event here »
URL:https://www.cynthiajames.net/event/a-conversation-with-geneen-roth/
LOCATION:Online Event
CATEGORIES:Online Event
ATTACH;FMTTYPE=image/jpeg:https://www.cynthiajames.net/wp-content/uploads/2020/06/navigatingseparation.jpg
END:VEVENT
END:VCALENDAR