BEGIN:VCALENDAR
VERSION:2.0
PRODID:-//Cynthia James - ECPv6.15.20//NONSGML v1.0//EN
CALSCALE:GREGORIAN
METHOD:PUBLISH
X-WR-CALNAME:Cynthia James
X-ORIGINAL-URL:https://www.cynthiajames.net
X-WR-CALDESC:Events for Cynthia James
REFRESH-INTERVAL;VALUE=DURATION:PT1H
X-Robots-Tag:noindex
X-PUBLISHED-TTL:PT1H
BEGIN:VTIMEZONE
TZID:America/Denver
BEGIN:DAYLIGHT
TZOFFSETFROM:-0700
TZOFFSETTO:-0600
TZNAME:MDT
DTSTART:20210314T090000
END:DAYLIGHT
BEGIN:STANDARD
TZOFFSETFROM:-0600
TZOFFSETTO:-0700
TZNAME:MST
DTSTART:20211107T080000
END:STANDARD
BEGIN:DAYLIGHT
TZOFFSETFROM:-0700
TZOFFSETTO:-0600
TZNAME:MDT
DTSTART:20220313T090000
END:DAYLIGHT
BEGIN:STANDARD
TZOFFSETFROM:-0600
TZOFFSETTO:-0700
TZNAME:MST
DTSTART:20221106T080000
END:STANDARD
BEGIN:DAYLIGHT
TZOFFSETFROM:-0700
TZOFFSETTO:-0600
TZNAME:MDT
DTSTART:20230312T090000
END:DAYLIGHT
BEGIN:STANDARD
TZOFFSETFROM:-0600
TZOFFSETTO:-0700
TZNAME:MST
DTSTART:20231105T080000
END:STANDARD
BEGIN:DAYLIGHT
TZOFFSETFROM:-0700
TZOFFSETTO:-0600
TZNAME:MDT
DTSTART:20240310T090000
END:DAYLIGHT
BEGIN:STANDARD
TZOFFSETFROM:-0600
TZOFFSETTO:-0700
TZNAME:MST
DTSTART:20241103T080000
END:STANDARD
BEGIN:DAYLIGHT
TZOFFSETFROM:-0700
TZOFFSETTO:-0600
TZNAME:MDT
DTSTART:20250309T090000
END:DAYLIGHT
BEGIN:STANDARD
TZOFFSETFROM:-0600
TZOFFSETTO:-0700
TZNAME:MST
DTSTART:20251102T080000
END:STANDARD
END:VTIMEZONE
BEGIN:VEVENT
DTSTART;VALUE=DATE:20240425
DTEND;VALUE=DATE:20240428
DTSTAMP:20260423T171623
CREATED:20230725T174706Z
LAST-MODIFIED:20231213T191942Z
UID:12159-1714003200-1714262399@www.cynthiajames.net
SUMMARY:Gold Rush Women’s Conference 2024 - Celebrating You
DESCRIPTION:Cynthia James is the Keynote Speaker and Workshop Facilitator at the Gold Rush Women’s Conference 2024. \nApril 25 – 27\, 2024 \n“CELEBRATING YOU” \nLearn more and register here »
URL:https://www.cynthiajames.net/event/gold-rush-womens-conference-2024-celebrating-you/
LOCATION:Online Event
CATEGORIES:Event,Facilitator,Keynote Speaker,Workshop
ATTACH;FMTTYPE=image/jpeg:https://www.cynthiajames.net/wp-content/uploads/2023/07/womensgoldrushconference24.jpg
ORGANIZER;CN="The GOLD RUSH Women's Conference":MAILTO:info@goldrushwomensconference.com
END:VEVENT
BEGIN:VEVENT
DTSTART;TZID=America/Denver:20231003T140000
DTEND;TZID=America/Denver:20231003T170000
DTSTAMP:20260423T171623
CREATED:20230808T144436Z
LAST-MODIFIED:20231213T191952Z
UID:12226-1696341600-1696352400@www.cynthiajames.net
SUMMARY:Creating Life Anew with Rev. Cynthia James
DESCRIPTION:People are searching for answers on how to stay anchored in spiritual principles and navigate a constantly changing world. \nLet’s get real with what was\, what was interrupted and what wants to be revealed. Rev. Cynthia will invite us into a personal and community exploration of how we best utilize the times we are traversing to harness change for good. We will explore what needs to be recognized and authentically released while embracing non-attachment and innovative recreation. She will support us in creating a plan to live joyfully and what that looks like. \nJoin Cynthia on Tuesday\, October 3rd at 2:00pm \nLearn more and register here >>
URL:https://www.cynthiajames.net/event/creating-life-anew-with-rev-cynthia-james/
LOCATION:Online Event
CATEGORIES:Facilitator,Online Event,Speaking
ATTACH;FMTTYPE=image/jpeg:https://www.cynthiajames.net/wp-content/uploads/2023/08/creatinglifeanew.jpg
END:VEVENT
BEGIN:VEVENT
DTSTART;VALUE=DATE:20230809
DTEND;VALUE=DATE:20230814
DTSTAMP:20260423T171623
CREATED:20230314T160050Z
LAST-MODIFIED:20230314T160050Z
UID:10874-1691539200-1691971199@www.cynthiajames.net
SUMMARY:Women’s Leadership Retreat - Uganda\, Africa
DESCRIPTION:Cynthia James will be a Facilitator at the Women’s Leadership Retreat \nUganda\, Africa \nAugust 9 – 13\, 2023 \nLearn more here >>
URL:https://www.cynthiajames.net/event/womens-leadership-retreat-uganda-africa/
LOCATION:Global Living Institure\, Plot 3 Bata Close 5th Street\, Industrial Area\, Kampala\, Uganda
CATEGORIES:Facilitator
ATTACH;FMTTYPE=image/png:https://www.cynthiajames.net/wp-content/uploads/2019/10/GLIRoundedLogov1.png
ORGANIZER;CN="Global Living Institute":MAILTO:info@globallivingston.org
END:VEVENT
BEGIN:VEVENT
DTSTART;VALUE=DATE:20220919
DTEND;VALUE=DATE:20220925
DTSTAMP:20260423T171623
CREATED:20220902T141442Z
LAST-MODIFIED:20220902T143049Z
UID:10505-1663545600-1664063999@www.cynthiajames.net
SUMMARY:Global Livingston Women’s Leadership Retreat
DESCRIPTION:Cynthia James will be a Facilitator at the Global Livingston Women’s Leadership Retreat \nSeptember 19 – 24\, 2022 \nLearn more here >>
URL:https://www.cynthiajames.net/event/global-livingston-womens-leadership-retreat/
CATEGORIES:Facilitator
ATTACH;FMTTYPE=image/jpeg:https://www.cynthiajames.net/wp-content/uploads/2020/01/gli.jpg
ORGANIZER;CN="Global Living Institute":MAILTO:info@globallivingston.org
END:VEVENT
BEGIN:VEVENT
DTSTART;VALUE=DATE:20220114
DTEND;VALUE=DATE:20220118
DTSTAMP:20260423T171623
CREATED:20210907T200846Z
LAST-MODIFIED:20220505T193510Z
UID:9953-1642118400-1642463999@www.cynthiajames.net
SUMMARY:Women Creating Our Futures - 2022 Conference
DESCRIPTION:The Courage to Change\nAttention Strong\, Powerful Women! \nThe time has come for you to take FULL CONTROL of your life and give birth to a NEWER\, BOLDER\, HEALTHIER and HAPPIER YOU. \nAre You Ready? \nThe Women Creating Our Futures Conference was created to inspire\, support\, and empower women around the world to help them discover better versions of themselves. \nThis isn’t just “another women’s conference.” It’s THE Women’s Conference that guarantees a life-changing experience. \nOur 2022 schedule is: \n\nFriday\, January 14\, 6:00 to 8:00 pm Mountain Time\nSaturday\, January 15\, 9:00 am to 5:00 pm Mountain Time\nSunday\, January 16\, 9:00 am to 1:00 pm Mountain Time\n\nCheck back soon for more details! \nIn this virtual conference\, you will experience: \n\nPowerful talks that inspire and support you in the discovery of your own strengths.\nUplifting\, joyful music\, dance sessions\, and entertainment.\nIntimate conversations in small breakout groups with like-minded women.\nExperiences\, exercises\, and interactions that help you gain clarity about what you really want in life and where you are headed.\n\nReserve your spot today!
URL:https://www.cynthiajames.net/event/women-creating-our-futures-2022-conference/
LOCATION:Online Event
CATEGORIES:Facilitator,Online Event,Speaking,Workshop
ATTACH;FMTTYPE=image/jpeg:https://www.cynthiajames.net/wp-content/uploads/2021/09/Courage-to-change-banner-1440x680-1.jpg
ORGANIZER;CN="Women Creating Our Futures":MAILTO:info@womencreatingourfutures.com
END:VEVENT
END:VCALENDAR