BEGIN:VCALENDAR
VERSION:2.0
PRODID:-//Cynthia James - ECPv6.15.20//NONSGML v1.0//EN
CALSCALE:GREGORIAN
METHOD:PUBLISH
X-WR-CALNAME:Cynthia James
X-ORIGINAL-URL:https://www.cynthiajames.net
X-WR-CALDESC:Events for Cynthia James
REFRESH-INTERVAL;VALUE=DURATION:PT1H
X-Robots-Tag:noindex
X-PUBLISHED-TTL:PT1H
BEGIN:VTIMEZONE
TZID:America/Denver
BEGIN:DAYLIGHT
TZOFFSETFROM:-0700
TZOFFSETTO:-0600
TZNAME:MDT
DTSTART:20190310T090000
END:DAYLIGHT
BEGIN:STANDARD
TZOFFSETFROM:-0600
TZOFFSETTO:-0700
TZNAME:MST
DTSTART:20191103T080000
END:STANDARD
BEGIN:DAYLIGHT
TZOFFSETFROM:-0700
TZOFFSETTO:-0600
TZNAME:MDT
DTSTART:20200308T090000
END:DAYLIGHT
BEGIN:STANDARD
TZOFFSETFROM:-0600
TZOFFSETTO:-0700
TZNAME:MST
DTSTART:20201101T080000
END:STANDARD
BEGIN:DAYLIGHT
TZOFFSETFROM:-0700
TZOFFSETTO:-0600
TZNAME:MDT
DTSTART:20210314T090000
END:DAYLIGHT
BEGIN:STANDARD
TZOFFSETFROM:-0600
TZOFFSETTO:-0700
TZNAME:MST
DTSTART:20211107T080000
END:STANDARD
BEGIN:DAYLIGHT
TZOFFSETFROM:-0700
TZOFFSETTO:-0600
TZNAME:MDT
DTSTART:20220313T090000
END:DAYLIGHT
BEGIN:STANDARD
TZOFFSETFROM:-0600
TZOFFSETTO:-0700
TZNAME:MST
DTSTART:20221106T080000
END:STANDARD
BEGIN:DAYLIGHT
TZOFFSETFROM:-0700
TZOFFSETTO:-0600
TZNAME:MDT
DTSTART:20230312T090000
END:DAYLIGHT
BEGIN:STANDARD
TZOFFSETFROM:-0600
TZOFFSETTO:-0700
TZNAME:MST
DTSTART:20231105T080000
END:STANDARD
BEGIN:DAYLIGHT
TZOFFSETFROM:-0700
TZOFFSETTO:-0600
TZNAME:MDT
DTSTART:20240310T090000
END:DAYLIGHT
BEGIN:STANDARD
TZOFFSETFROM:-0600
TZOFFSETTO:-0700
TZNAME:MST
DTSTART:20241103T080000
END:STANDARD
BEGIN:DAYLIGHT
TZOFFSETFROM:-0700
TZOFFSETTO:-0600
TZNAME:MDT
DTSTART:20250309T090000
END:DAYLIGHT
BEGIN:STANDARD
TZOFFSETFROM:-0600
TZOFFSETTO:-0700
TZNAME:MST
DTSTART:20251102T080000
END:STANDARD
END:VTIMEZONE
BEGIN:VEVENT
DTSTART;VALUE=DATE:20240425
DTEND;VALUE=DATE:20240428
DTSTAMP:20260423T125051
CREATED:20230725T174706Z
LAST-MODIFIED:20231213T191942Z
UID:12159-1714003200-1714262399@www.cynthiajames.net
SUMMARY:Gold Rush Women’s Conference 2024 - Celebrating You
DESCRIPTION:Cynthia James is the Keynote Speaker and Workshop Facilitator at the Gold Rush Women’s Conference 2024. \nApril 25 – 27\, 2024 \n“CELEBRATING YOU” \nLearn more and register here »
URL:https://www.cynthiajames.net/event/gold-rush-womens-conference-2024-celebrating-you/
LOCATION:Online Event
CATEGORIES:Event,Facilitator,Keynote Speaker,Workshop
ATTACH;FMTTYPE=image/jpeg:https://www.cynthiajames.net/wp-content/uploads/2023/07/womensgoldrushconference24.jpg
ORGANIZER;CN="The GOLD RUSH Women's Conference":MAILTO:info@goldrushwomensconference.com
END:VEVENT
BEGIN:VEVENT
DTSTART;TZID=America/Denver:20240410T180000
DTEND;TZID=America/Denver:20240410T193000
DTSTAMP:20260423T125051
CREATED:20240325T172738Z
LAST-MODIFIED:20250320T190409Z
UID:12490-1712772000-1712777400@www.cynthiajames.net
SUMMARY:Community Conversations with Cynthia
DESCRIPTION:Find Connection and Support in Our Community Conversations with Cynthia James\nOur fast-paced world can feel overwhelming\, don’t you think? \nCommunity Conversations with Cynthia James are a space where we can pause\, share\, reflect\, and be heard. Every quarter\, we offer a safe space to share your experiences and be met with empathy and understanding. \nJoin us for our NEXT Community Conversations with Cynthia James. \nDATE CHANGE: April 10th at 6:00pm MT \nLearn more and register here >>
URL:https://www.cynthiajames.net/event/community-conversations-with-cynthia-march/
LOCATION:Online Event
CATEGORIES:Event,Online Event,Series
ATTACH;FMTTYPE=image/webp:https://www.cynthiajames.net/wp-content/uploads/2024/03/communityconversationswithcynthia.webp
END:VEVENT
BEGIN:VEVENT
DTSTART;TZID=America/Denver:20240222T170000
DTEND;TZID=America/Denver:20240222T190000
DTSTAMP:20260423T125051
CREATED:20240214T195830Z
LAST-MODIFIED:20240214T195917Z
UID:12443-1708621200-1708628400@www.cynthiajames.net
SUMMARY:Cheryl Esposito: Lead With Spirit MasterClass
DESCRIPTION:Lead with Spirit Masterclass with Cheryl Esposito and Special Guest Cynthia James\nThis is a dear colleague of mine\, Cheryl Esposito. 30 years of Leadership craft with CEOs\, Executives\, and Entrepreneurs\, I am thrilled to share with you she is making her exclusive work available with her first online series\, The Lead With Spirit Series. \nThis MasterClass empowers those who attend with access to transformative leadership capabilities. The Lead With Spirit Series transcends traditional leadership paradigms\, focusing on the essence of your authentic\, embodied leadership that truly matters. \nHere are five mastery opportunities this MasterClass provides you access to: \n1. Unshakable Authenticity: Discover your core essence. Learn how to lead from that place\, fostering genuine and unshakable authenticity in your leadership style. \n2. Communication Matters: Master the art of clear and effective communication that matters\, ensuring that your messages resonate and inspire action – one to one\, within your team\, and throughout your organization. \n3. Positive Organizational Influence: Gain the skills and knowledge to positively influence your organization\, motivating your team to achieve extraordinary results. \n4. Courage Mastery: Learn to recognize\, confront\, and transcend fear\, empowering yourself to make decisions without hesitation or self-doubt. \n5. Leadership Transformation: Experience a profound and lasting transformation in your leadership behavior\, making peak performance the norm\, expanding your personal growth\, turning business as usual into business results. \nIf you are looking to transform your leadership\, register today\, seats are limited. \nLearn more and register here >>
URL:https://www.cynthiajames.net/event/cheryl-esposito-lead-with-spirit-masterclass/
LOCATION:Online Event
CATEGORIES:Event,Speaking
ATTACH;FMTTYPE=image/png:https://www.cynthiajames.net/wp-content/uploads/2024/02/cherylesposito.png
END:VEVENT
BEGIN:VEVENT
DTSTART;VALUE=DATE:20240217
DTEND;VALUE=DATE:20240218
DTSTAMP:20260423T125051
CREATED:20240118T205222Z
LAST-MODIFIED:20240118T205222Z
UID:12408-1708128000-1708214399@www.cynthiajames.net
SUMMARY:Feast for the Soul
DESCRIPTION:Cynthia James will be speaking at Feast for the Soul on February\, 17\, 2024. \nLearn more and register here >>
URL:https://www.cynthiajames.net/event/feast-for-the-soul/
LOCATION:Feast for the Soul\, 5142 Hollister Ave. Suite 110\, Santa Barbara\, CA\, 93111\, United States
CATEGORIES:Conference,Event,Speaking
ATTACH;FMTTYPE=image/jpeg:https://www.cynthiajames.net/wp-content/uploads/2024/01/feastforthesoul-february2024.jpg
ORGANIZER;CN="Feast for the Soul":MAILTO:info@feastforthesoul.org
END:VEVENT
BEGIN:VEVENT
DTSTART;TZID=America/Denver:20230205T070000
DTEND;TZID=America/Denver:20230205T090000
DTSTAMP:20260423T125051
CREATED:20221012T145230Z
LAST-MODIFIED:20230130T210558Z
UID:10585-1675580400-1675587600@www.cynthiajames.net
SUMMARY:Speaking & Singing at Mile Hi Church
DESCRIPTION:Cynthia James will be speaking and singing at Mile Hi Church \nSunday\, February 5\, 2023 \n7:00am \nLearn more here >>
URL:https://www.cynthiajames.net/event/singing-at-mile-hi-church-2/
LOCATION:Mile Hi Church\, 9077 W. Alameda Ave\, Lakewood\, CO\, 80226\, United States
CATEGORIES:Event,Singing,Speaking
ATTACH;FMTTYPE=image/jpeg:https://www.cynthiajames.net/wp-content/uploads/2017/02/Mile-Hi-Church.jpg
END:VEVENT
BEGIN:VEVENT
DTSTART;TZID=America/Denver:20221217T120000
DTEND;TZID=America/Denver:20221217T140000
DTSTAMP:20260423T125051
CREATED:20221017T194241Z
LAST-MODIFIED:20221017T194241Z
UID:10598-1671278400-1671285600@www.cynthiajames.net
SUMMARY:Author Book Signing
DESCRIPTION:Cynthia James will be at Books Are Awesome! in Parker\, Colorado for in-person book signing. \nBooks Are Awesome!\nDecember 17\, 2022\nNoon – 2:00 PM \nLearn more here >>
URL:https://www.cynthiajames.net/event/author-book-signing/
LOCATION:Books Are Awesome!\, 11211 S. Dransfeldt\, #101\, Parker\, CO\, 80134\, United States
CATEGORIES:Book Signing,Event
ATTACH;FMTTYPE=image/jpeg:https://www.cynthiajames.net/wp-content/uploads/2022/10/booksareawesome.jpg
END:VEVENT
BEGIN:VEVENT
DTSTART;TZID=America/Denver:20220807T070000
DTEND;TZID=America/Denver:20220807T090000
DTSTAMP:20260423T125051
CREATED:20220706T210037Z
LAST-MODIFIED:20220719T163243Z
UID:10374-1659855600-1659862800@www.cynthiajames.net
SUMMARY:Singing at Mile Hi Church
DESCRIPTION:Cynthia James will be singing at Mile Hi Church \nSunday\, August 7\, 2022 \n7:00am \nLearn more here >>
URL:https://www.cynthiajames.net/event/singing-at-mile-hi-church/
LOCATION:Mile Hi Church\, 9077 W. Alameda Ave\, Lakewood\, CO\, 80226\, United States
CATEGORIES:Event,Singing
ATTACH;FMTTYPE=image/jpeg:https://www.cynthiajames.net/wp-content/uploads/2017/02/Mile-Hi-Church.jpg
END:VEVENT
BEGIN:VEVENT
DTSTART;VALUE=DATE:20220624
DTEND;VALUE=DATE:20220627
DTSTAMP:20260423T125051
CREATED:20220505T194758Z
LAST-MODIFIED:20220505T195041Z
UID:10249-1656028800-1656287999@www.cynthiajames.net
SUMMARY:Becoming Fierce Women's Empowerment Retreat
DESCRIPTION:After two years of many challenges that kept us apart\, it is time to come together and thrive! Join Stephanie James\, Cynthia James and other world thought leaders\, change makers\, and wisdom keepers for the June 24th-26th\, Becoming Fierce Women’s Empowerment Retreat that will give you the keys to creating a bold and beautiful life. \nLearn more and register here: https://www.stephaniejames.world/becomingfierce
URL:https://www.cynthiajames.net/event/becoming-fierce-womens-empowerment-retreat/
LOCATION:Estes Park\, Estes Park\, United States
CATEGORIES:Event,Private Event,Retreat
ATTACH;FMTTYPE=image/jpeg:https://www.cynthiajames.net/wp-content/uploads/2022/05/event-becomingfierce.jpg
END:VEVENT
BEGIN:VEVENT
DTSTART;VALUE=DATE:20211016
DTEND;VALUE=DATE:20211017
DTSTAMP:20260423T125051
CREATED:20210930T211031Z
LAST-MODIFIED:20210930T211645Z
UID:9977-1634342400-1634428799@www.cynthiajames.net
SUMMARY:Global Oneness Summit
DESCRIPTION:Discover the Power of Opening to Your Universal Self\nI’m excited to share with you that our friends at Humanity’s Team are once again hosting the Global Oneness Summit—for the 12th year in a row! I am hosting two panels and am so honored. \nThis year’s theme is “Opening to Your Universal Self\,” and the entire 9 days is completely FREE\, so I hope you are able to sign up and participate as much as possible in this profound experience. \nGet All the Details About The 12th Annual Global Oneness Online Summit and Register Here\nThe 2021 Global Oneness Summit will examine what it means for us to open to our Universal Self\, as well as the importance of doing so in order to create a more sustainable\, equitable\, and thriving world. \nIt all begins on Saturday\, October 16th and continues through Sunday\, October 24th\, 2021 with wisdom from over 100 leading experts about conscious evolution through multiple online events each of the 9 days. \n \nThe scientific and spiritual visionaries you’ll be hearing from during the 9 days of this year’s Summit include Gregg Braden\, Nassim Haramein\, Paul Hawken\, Bruce H. Lipton\, Ph.D.\, Lynne McTaggart\, Lisa Nichols\, Michael Bernard Beckwith\, Neale Donald Walsch\, Dr. Sue Morter\, Dr. Tony Nader\, Marci Shimoff\, Debra Poneman\, Katherine Woodward Thomas\, Lynne Twist\, Patricia Cota-Robles\, Steve Farrell\, Hereditary Chief Phil Lane Jr.\, and many others. \nYou’ll also be able to join them for an International Shout Out Love Day Event\, which was a powerful and connective addition to last year’s summit. \nNot only is the Summit free\, but when you sign up\, Humanity’s Team also has some gifts for you for joining them in their quest to make conscious living pervasive worldwide by 2040. You’ll receive: \n\nAn invitation to a special LIVE ceremony during which Gregg Braden will receive the Humanity’s Team 2021 Spiritual Leadership Award.\nAccess to a brand-new series from Gregg Braden and Nassim Haramein after the Summit is over\, called “Secret Scientific Discoveries That Are Changing Everything: Our True Human Origins and The Power of the Resonant Field.”\nA seat at a brand-new LIVE 4-Hour Interactive Online Workshop with modern day spiritual messenger\, Neale Donald Walsch\, “The God Solution.”\n\nLearn More About the FREE ‘Opening to Your Universal Self’ Global Oneness Summit and Shout Out Love Day\, and View the Schedule Here \nScientific discoveries have now proven what the ancient wisdom traditions have been teaching all along: We are One with the Universe and with each other and all life. \nDuring the summit\, we will explore our current opportunity to rethink our relationship with the world and everything in it\, and to feel into what it means for ourselves\, and for humanity’s evolution\, to Open to Our Universal Selves. \nI hope you’ll decide to join me in attending this powerful and inspiring event designed to support us toward that goal.
URL:https://www.cynthiajames.net/event/global-oneness-summit/
LOCATION:Online Event
CATEGORIES:Event,Panel Host
ATTACH;FMTTYPE=image/jpeg:https://www.cynthiajames.net/wp-content/uploads/2021/09/event-globalonenesssummit.jpg
END:VEVENT
BEGIN:VEVENT
DTSTART;VALUE=DATE:20210425
DTEND;VALUE=DATE:20210426
DTSTAMP:20260423T125051
CREATED:20210402T153156Z
LAST-MODIFIED:20220505T193534Z
UID:9719-1619308800-1619395199@www.cynthiajames.net
SUMMARY:Unity of Bellevue
DESCRIPTION:Cynthia will be a Guest Speaker at Unity of Bellevue \nApril 25\, 2021 \nLearn more here »
URL:https://www.cynthiajames.net/event/unity-of-bellevue/
LOCATION:Unity of Bellevue\, 16330 NE 4th St\, Bellevue\, WA\, 98008\, United States
CATEGORIES:Event,Speaking
ATTACH;FMTTYPE=image/jpeg:https://www.cynthiajames.net/wp-content/uploads/2021/04/event-unityofbellevue.jpg
ORGANIZER;CN="Unity of Bellevue":MAILTO:info@unityofbellevue.org
END:VEVENT
BEGIN:VEVENT
DTSTART;VALUE=DATE:20210418
DTEND;VALUE=DATE:20210419
DTSTAMP:20260423T125051
CREATED:20210318T165325Z
LAST-MODIFIED:20210318T165325Z
UID:9688-1618704000-1618790399@www.cynthiajames.net
SUMMARY:Center for Spiritual Living - Seattle
DESCRIPTION:Cynthia is a speaker at the Center for Spiritual Living\, Seattle. \nCynthia James will be speaking on Sunday\, April 18th\, 2021.
URL:https://www.cynthiajames.net/event/center-for-spiritual-living-seattle/
LOCATION:Seattle Center for Spiritual Living\, Seattle\, WA\, United States
CATEGORIES:Event,Speaking
ATTACH;FMTTYPE=image/jpeg:https://www.cynthiajames.net/wp-content/uploads/2021/03/event-centerforspirituallivingseattle.jpg
ORGANIZER;CN="Center for Spiritual Living - Seattle":MAILTO:info@spiritualliving.org
END:VEVENT
BEGIN:VEVENT
DTSTART;VALUE=DATE:20210312
DTEND;VALUE=DATE:20210313
DTSTAMP:20260423T125051
CREATED:20210122T010048Z
LAST-MODIFIED:20210122T010136Z
UID:9531-1615507200-1615593599@www.cynthiajames.net
SUMMARY:AWE - Entrepreneurship Program for Women
DESCRIPTION:AWE – ENTREPRENEURSHIP PROGRAM FOR WOMEN\nBEGINS MARCH 12\, 2021 \nRegister and Learn More Here »
URL:https://www.cynthiajames.net/event/awe-entrepreneurship-program-for-women/
LOCATION:Online Event
CATEGORIES:Event,Online Event
ATTACH;FMTTYPE=image/jpeg:https://www.cynthiajames.net/wp-content/uploads/2021/01/event-AWE.jpg
ORGANIZER;CN="Women Creating Our Futures":MAILTO:info@womencreatingourfutures.com
END:VEVENT
BEGIN:VEVENT
DTSTART;VALUE=DATE:20210208
DTEND;VALUE=DATE:20210413
DTSTAMP:20260423T125051
CREATED:20210122T005145Z
LAST-MODIFIED:20210401T221154Z
UID:9527-1612742400-1618271999@www.cynthiajames.net
SUMMARY:MASTERMIND PROGRAM - INITIATING and DEVELOPING POSSIBILITIES
DESCRIPTION:MASTERMIND PROGRAM – INITIATING and DEVELOPING POSSIBILITIES\nWOMEN’S 10-WEEK ONLINE MASTERMIND PROGRAM \nCreate the Life You Desire! \nFebruary 8 – April 12\, 2021\nLearn More and Register Here »
URL:https://www.cynthiajames.net/event/mastermind-program-initiating-and-developing-possibilities/
LOCATION:Online Event
CATEGORIES:Event,Online Event
ATTACH;FMTTYPE=image/jpeg:https://www.cynthiajames.net/wp-content/uploads/2021/01/event-InitiatingPossiblities.jpg
ORGANIZER;CN="Women Creating Our Futures":MAILTO:info@womencreatingourfutures.com
END:VEVENT
BEGIN:VEVENT
DTSTART;VALUE=DATE:20210125
DTEND;VALUE=DATE:20210130
DTSTAMP:20260423T125051
CREATED:20210125T194803Z
LAST-MODIFIED:20210125T194858Z
UID:9535-1611532800-1611964799@www.cynthiajames.net
SUMMARY:Best of LIMITLESS: WOMEN RISING
DESCRIPTION:What would you do if you knew you were truly limitless in what you can create for 2021? \nThis month’s event kicks off on Monday\, January 25 and runs through Friday\, January 29th – each day you’ll have access to three more conversations from these truly amazing speakers.  You’ll glean pearls of wisdom from every presenter\, gain new tools and resources to help you communicate better\, find your purpose\, manifest more powerfully\, and step forward into embracing your true feminine power on an even deeper level. \nAccess the videos here »
URL:https://www.cynthiajames.net/event/best-of-limitless-women-rising/
LOCATION:Online Event
CATEGORIES:Event,Online Event
ATTACH;FMTTYPE=image/jpeg:https://www.cynthiajames.net/wp-content/uploads/2021/01/event-limitless.jpg
END:VEVENT
BEGIN:VEVENT
DTSTART;VALUE=DATE:20200914
DTEND;VALUE=DATE:20200929
DTSTAMP:20260423T125051
CREATED:20200902T170720Z
LAST-MODIFIED:20220505T193556Z
UID:9372-1600041600-1601337599@www.cynthiajames.net
SUMMARY:Season Five of the Inner Warrior Summit
DESCRIPTION:Cut Through Chaos\, Claim Your Power\, Radiate Your Light\nOnline Master Class \nFeaturing Cynthia James \nThe summit will run from September 14th – September 28th\, with 2 replay days September 29th – 30th. \nRegister here »
URL:https://www.cynthiajames.net/event/season-five-of-the-inner-warrior-summit/
LOCATION:Online Event
CATEGORIES:Event,Online Event
ATTACH;FMTTYPE=image/jpeg:https://www.cynthiajames.net/wp-content/uploads/2020/09/IWS2020-FBTemplate-Speaker-Cynthia-James.jpg
END:VEVENT
BEGIN:VEVENT
DTSTART;VALUE=DATE:20200615
DTEND;VALUE=DATE:20200620
DTSTAMP:20260423T125051
CREATED:20200604T160524Z
LAST-MODIFIED:20200604T160650Z
UID:9213-1592179200-1592611199@www.cynthiajames.net
SUMMARY:Resilience & Renewal in Your Third Act
DESCRIPTION:Your passion and wisdom are vital for your life… and they’re key to solving the issues facing our precious planet and global family.That’s why we’re so happy to invite you to join Resilience & Renewal in Your Third Act\, an online summit hosted by the Shift Network. \nJoin me and bold leaders who are on fire with possibility and purpose — including Sharon Salzberg\, Dr. Katie Hendricks\, Lynne Twist\, Sandra Ingerman\, Pamela Madsen\, Judith Kravitz\, Carol Orsborn\, and Yeye Teish\, among many others. \nRSVP at no charge here: https://shiftnetwork.infusionsoft.com/go/yta20cynthiajames/cynthiajames
URL:https://www.cynthiajames.net/event/resilience-renewal-in-your-third-act/
LOCATION:Online Event
CATEGORIES:Event
ATTACH;FMTTYPE=image/jpeg:https://www.cynthiajames.net/wp-content/uploads/2020/06/resiliencereneawalthirdact.jpg
END:VEVENT
BEGIN:VEVENT
DTSTART;VALUE=DATE:20200614
DTEND;VALUE=DATE:20200615
DTSTAMP:20260423T125051
CREATED:20200130T172117Z
LAST-MODIFIED:20200604T162226Z
UID:9036-1592092800-1592179199@www.cynthiajames.net
SUMMARY:Virtual Women's Retreat
DESCRIPTION:Save the date for Sunday\, June 14th\, 2020!\n9-11:00a.m. MST / 6-8:00p.m. EAT \nDownload the flyer for more information » \nWe are excited to announce that we’ve decided not to cancel this years’ retreat\, but instead make it a virtual two hour session via Zoom conferencing with participants from Uganda\, Rwanda\, and the U.S. Our in-person retreat is postponed to 2021. Our goal is to connect the diverse community to further enrich and strengthen their understanding of the global women’s issues by listening\, sharing and exchanging knowledge and experience. \nOur upcoming two hour session on Sunday\, June 14th is centered around “hope”. Please join us for story sharing\, movement\, importances of self care & more! \nTo RSVP and for more information about the retreat/tour through GLI\, contact Cat MacCormick at catherine@globallivingston.org. \n\nSince 2013\, more than 30 influential women from the United States and East Africa have come together for a three-day conference at the Entusi Resort. \nThe conference\, co-chaired each year by a Ugandan and an American\, has hosted women working in public\, private\, nonprofit and academic sectors. Past areas of focus have included topics such as work-life balance\, goal setting\, and gender rights. But more importantly\, the Women’s Leadership Retreat has become a place for key leaders from around the globe to come together and tell their stories; to have a seat at the table and to grow their networks to impact positive change; to listen and think… and then act. And when they are finished listening and thinking at the Women’s Leadership Summit and begin to act… some amazing things happen! \nCynthia is co-chair of this event.
URL:https://www.cynthiajames.net/event/womens-leadership-retreat-uganda/
LOCATION:Global Living Institure\, Plot 3 Bata Close 5th Street\, Industrial Area\, Kampala\, Uganda
CATEGORIES:Co-chair,Event
ATTACH;FMTTYPE=image/jpeg:https://www.cynthiajames.net/wp-content/uploads/2020/01/gli-retreat-onlineevent.jpg
ORGANIZER;CN="Global Living Institute":MAILTO:info@globallivingston.org
END:VEVENT
END:VCALENDAR