BEGIN:VCALENDAR
VERSION:2.0
PRODID:-//Cynthia James - ECPv6.15.20//NONSGML v1.0//EN
CALSCALE:GREGORIAN
METHOD:PUBLISH
X-WR-CALNAME:Cynthia James
X-ORIGINAL-URL:https://www.cynthiajames.net
X-WR-CALDESC:Events for Cynthia James
REFRESH-INTERVAL;VALUE=DURATION:PT1H
X-Robots-Tag:noindex
X-PUBLISHED-TTL:PT1H
BEGIN:VTIMEZONE
TZID:America/Denver
BEGIN:DAYLIGHT
TZOFFSETFROM:-0700
TZOFFSETTO:-0600
TZNAME:MDT
DTSTART:20250309T090000
END:DAYLIGHT
BEGIN:STANDARD
TZOFFSETFROM:-0600
TZOFFSETTO:-0700
TZNAME:MST
DTSTART:20251102T080000
END:STANDARD
BEGIN:DAYLIGHT
TZOFFSETFROM:-0700
TZOFFSETTO:-0600
TZNAME:MDT
DTSTART:20260308T090000
END:DAYLIGHT
BEGIN:STANDARD
TZOFFSETFROM:-0600
TZOFFSETTO:-0700
TZNAME:MST
DTSTART:20261101T080000
END:STANDARD
BEGIN:DAYLIGHT
TZOFFSETFROM:-0700
TZOFFSETTO:-0600
TZNAME:MDT
DTSTART:20270314T090000
END:DAYLIGHT
BEGIN:STANDARD
TZOFFSETFROM:-0600
TZOFFSETTO:-0700
TZNAME:MST
DTSTART:20271107T080000
END:STANDARD
END:VTIMEZONE
BEGIN:VEVENT
DTSTART;VALUE=DATE:20260407
DTEND;VALUE=DATE:20260411
DTSTAMP:20260423T125050
CREATED:20260106T220427Z
LAST-MODIFIED:20260106T220534Z
UID:14731-1775520000-1775865599@www.cynthiajames.net
SUMMARY:Spiritual Living Convention 2026
DESCRIPTION:The 2026 Spiritual Living Convention is bringing love and oneness to Reno\, Nevada\, when we gather Together in Joy: Honoring. Connecting. Growing. \nJoin Cynthia James in Reno\, Nevada for her Keynote presentation as we honor the past\, connect our vision\, and grow into our future. This will be a convention like no other. \n$599 Early Bird Pricing for Single Attendees ends January 7\, 2026 ($699 Regular price begins January 8\, 2026) \nLearn more and register here »
URL:https://www.cynthiajames.net/event/spiritual-living-convention-2026/
LOCATION:Center for Spiritual Living – Reno\, 4685 Lakeside Drive\, Reno\, NV\, 89509\, United States
CATEGORIES:Conference,Event,Keynote Speaker
ATTACH;FMTTYPE=image/png:https://www.cynthiajames.net/wp-content/uploads/2026/01/1-Peppermill-banner.png
END:VEVENT
END:VCALENDAR