BEGIN:VCALENDAR
VERSION:2.0
PRODID:-//Cynthia James - ECPv6.15.20//NONSGML v1.0//EN
CALSCALE:GREGORIAN
METHOD:PUBLISH
X-WR-CALNAME:Cynthia James
X-ORIGINAL-URL:https://www.cynthiajames.net
X-WR-CALDESC:Events for Cynthia James
REFRESH-INTERVAL;VALUE=DURATION:PT1H
X-Robots-Tag:noindex
X-PUBLISHED-TTL:PT1H
BEGIN:VTIMEZONE
TZID:America/Denver
BEGIN:DAYLIGHT
TZOFFSETFROM:-0700
TZOFFSETTO:-0600
TZNAME:MDT
DTSTART:20210314T090000
END:DAYLIGHT
BEGIN:STANDARD
TZOFFSETFROM:-0600
TZOFFSETTO:-0700
TZNAME:MST
DTSTART:20211107T080000
END:STANDARD
BEGIN:DAYLIGHT
TZOFFSETFROM:-0700
TZOFFSETTO:-0600
TZNAME:MDT
DTSTART:20220313T090000
END:DAYLIGHT
BEGIN:STANDARD
TZOFFSETFROM:-0600
TZOFFSETTO:-0700
TZNAME:MST
DTSTART:20221106T080000
END:STANDARD
BEGIN:DAYLIGHT
TZOFFSETFROM:-0700
TZOFFSETTO:-0600
TZNAME:MDT
DTSTART:20230312T090000
END:DAYLIGHT
BEGIN:STANDARD
TZOFFSETFROM:-0600
TZOFFSETTO:-0700
TZNAME:MST
DTSTART:20231105T080000
END:STANDARD
BEGIN:DAYLIGHT
TZOFFSETFROM:-0700
TZOFFSETTO:-0600
TZNAME:MDT
DTSTART:20240310T090000
END:DAYLIGHT
BEGIN:STANDARD
TZOFFSETFROM:-0600
TZOFFSETTO:-0700
TZNAME:MST
DTSTART:20241103T080000
END:STANDARD
BEGIN:DAYLIGHT
TZOFFSETFROM:-0700
TZOFFSETTO:-0600
TZNAME:MDT
DTSTART:20250309T090000
END:DAYLIGHT
BEGIN:STANDARD
TZOFFSETFROM:-0600
TZOFFSETTO:-0700
TZNAME:MST
DTSTART:20251102T080000
END:STANDARD
BEGIN:DAYLIGHT
TZOFFSETFROM:-0700
TZOFFSETTO:-0600
TZNAME:MDT
DTSTART:20260308T090000
END:DAYLIGHT
BEGIN:STANDARD
TZOFFSETFROM:-0600
TZOFFSETTO:-0700
TZNAME:MST
DTSTART:20261101T080000
END:STANDARD
END:VTIMEZONE
BEGIN:VTIMEZONE
TZID:America/Chicago
BEGIN:DAYLIGHT
TZOFFSETFROM:-0600
TZOFFSETTO:-0500
TZNAME:CDT
DTSTART:20220313T080000
END:DAYLIGHT
BEGIN:STANDARD
TZOFFSETFROM:-0500
TZOFFSETTO:-0600
TZNAME:CST
DTSTART:20221106T070000
END:STANDARD
BEGIN:DAYLIGHT
TZOFFSETFROM:-0600
TZOFFSETTO:-0500
TZNAME:CDT
DTSTART:20230312T080000
END:DAYLIGHT
BEGIN:STANDARD
TZOFFSETFROM:-0500
TZOFFSETTO:-0600
TZNAME:CST
DTSTART:20231105T070000
END:STANDARD
BEGIN:DAYLIGHT
TZOFFSETFROM:-0600
TZOFFSETTO:-0500
TZNAME:CDT
DTSTART:20240310T080000
END:DAYLIGHT
BEGIN:STANDARD
TZOFFSETFROM:-0500
TZOFFSETTO:-0600
TZNAME:CST
DTSTART:20241103T070000
END:STANDARD
END:VTIMEZONE
BEGIN:VEVENT
DTSTART;VALUE=DATE:20250426
DTEND;VALUE=DATE:20250427
DTSTAMP:20260423T154808
CREATED:20250204T174433Z
LAST-MODIFIED:20250312T174801Z
UID:12914-1745625600-1745711999@www.cynthiajames.net
SUMMARY:Book Launch Party
DESCRIPTION:The Kingdom of Magic and Mystery by the incredible Cynthia James. Cynthia’s new book isn’t just a guide — it’s a lifeline for these challenging times. Over the past year\, the rising tide of stress and anxiety has left so many feeling disconnected and powerless. \nJoin Cynthia for her Book Launch Party on Saturday\, April 26th. \nDetails coming soon!
URL:https://www.cynthiajames.net/event/book-launch-party/
LOCATION:Colorado
CATEGORIES:Book Signing,Event,Public Event
ATTACH;FMTTYPE=image/webp:https://www.cynthiajames.net/wp-content/uploads/2025/01/thekingdommagicmysterybooks.webp
END:VEVENT
BEGIN:VEVENT
DTSTART;TZID=America/Denver:20250405T140000
DTEND;TZID=America/Denver:20250405T160000
DTSTAMP:20260423T154808
CREATED:20250312T154655Z
LAST-MODIFIED:20250312T154655Z
UID:13335-1743861600-1743868800@www.cynthiajames.net
SUMMARY:Awakening Your Inner Magic: A Transformational Workshop
DESCRIPTION:Sat\, April 5th 2:00 PM \nWithin each of us lies a wellspring of magic—our unique blend of intuition\, creativity\, and personal power. Yet\, life’s challenges\, doubts\, and societal conditioning often cause us to dim our own light. This 2-hour immersive workshop is designed to help you reconnect with your inner magic\, uncover your hidden gifts\, and step fully into your power. \nWatch this Interactive & Experiential Video for more information! \nLearn more and register here >>
URL:https://www.cynthiajames.net/event/awakening-your-inner-magic-a-transformational-workshop/
LOCATION:Taspen’s Yoga\, Music & Healing Center\, 25797 Conifer Rd. C-130\, Conifer\, CO\, 80433\, United States
CATEGORIES:Book Signing,Event,Workshop
ATTACH;FMTTYPE=image/webp:https://www.cynthiajames.net/wp-content/uploads/2025/03/Cynthia_s_Workshop_1296x.webp
END:VEVENT
BEGIN:VEVENT
DTSTART;TZID=America/Denver:20250330T090000
DTEND;TZID=America/Denver:20250330T110000
DTSTAMP:20260423T154808
CREATED:20250312T154108Z
LAST-MODIFIED:20250312T154108Z
UID:13331-1743325200-1743332400@www.cynthiajames.net
SUMMARY:Agape International Spirituals Center Sunday
DESCRIPTION:Cynthia James will be speaking and signing copies of her new book\, The Kingdom of Magic and Mystery\, on March 30th. \nJoin Cynthia for both services on March 30th! \nAttend in person or join the livestream here >>
URL:https://www.cynthiajames.net/event/agape-international-spirituals-center-sunday/
LOCATION:Agape International Spiritual Center\, 8440 Wilshire Blvd\, Beverly Hills\, CA\, 80211\, United States
CATEGORIES:Book Signing,Speaking
ATTACH;FMTTYPE=image/jpeg:https://www.cynthiajames.net/wp-content/uploads/2025/03/ministers-bg.jpg
END:VEVENT
BEGIN:VEVENT
DTSTART;VALUE=DATE:20230225
DTEND;VALUE=DATE:20230226
DTSTAMP:20260423T154808
CREATED:20230202T203011Z
LAST-MODIFIED:20230202T203011Z
UID:10758-1677283200-1677369599@www.cynthiajames.net
SUMMARY:Book Soiree at the Aspen Hive
DESCRIPTION:Cynthia James will be appearing at a book soiree at the Aspen Hive in Aspen\, Colorado. \nFebruary 25\, 2023
URL:https://www.cynthiajames.net/event/book-soiree-aspen-hive/
LOCATION:Aspen Hive\, 429 East Cooper Ave\, Aspen\, CO\, 81611\, United States
CATEGORIES:Book Signing
ATTACH;FMTTYPE=image/png:https://www.cynthiajames.net/wp-content/uploads/2023/02/LuxuryJewelryStoreinAspenCO.png
END:VEVENT
BEGIN:VEVENT
DTSTART;TZID=America/Denver:20221217T120000
DTEND;TZID=America/Denver:20221217T140000
DTSTAMP:20260423T154808
CREATED:20221017T194241Z
LAST-MODIFIED:20221017T194241Z
UID:10598-1671278400-1671285600@www.cynthiajames.net
SUMMARY:Author Book Signing
DESCRIPTION:Cynthia James will be at Books Are Awesome! in Parker\, Colorado for in-person book signing. \nBooks Are Awesome!\nDecember 17\, 2022\nNoon – 2:00 PM \nLearn more here >>
URL:https://www.cynthiajames.net/event/author-book-signing/
LOCATION:Books Are Awesome!\, 11211 S. Dransfeldt\, #101\, Parker\, CO\, 80134\, United States
CATEGORIES:Book Signing,Event
ATTACH;FMTTYPE=image/jpeg:https://www.cynthiajames.net/wp-content/uploads/2022/10/booksareawesome.jpg
END:VEVENT
END:VCALENDAR